BEGIN:VCALENDAR
VERSION:2.0
PRODID:-//Town of Queensbury - ECPv6.15.11//NONSGML v1.0//EN
CALSCALE:GREGORIAN
METHOD:PUBLISH
X-ORIGINAL-URL:https://old.queensbury.net
X-WR-CALDESC:Events for Town of Queensbury
REFRESH-INTERVAL;VALUE=DURATION:PT1H
X-Robots-Tag:noindex
X-PUBLISHED-TTL:PT1H
BEGIN:VTIMEZONE
TZID:America/New_York
BEGIN:DAYLIGHT
TZOFFSETFROM:-0500
TZOFFSETTO:-0400
TZNAME:EDT
DTSTART:20200308T070000
END:DAYLIGHT
BEGIN:STANDARD
TZOFFSETFROM:-0400
TZOFFSETTO:-0500
TZNAME:EST
DTSTART:20201101T060000
END:STANDARD
BEGIN:DAYLIGHT
TZOFFSETFROM:-0500
TZOFFSETTO:-0400
TZNAME:EDT
DTSTART:20210314T070000
END:DAYLIGHT
BEGIN:STANDARD
TZOFFSETFROM:-0400
TZOFFSETTO:-0500
TZNAME:EST
DTSTART:20211107T060000
END:STANDARD
BEGIN:DAYLIGHT
TZOFFSETFROM:-0500
TZOFFSETTO:-0400
TZNAME:EDT
DTSTART:20220313T070000
END:DAYLIGHT
BEGIN:STANDARD
TZOFFSETFROM:-0400
TZOFFSETTO:-0500
TZNAME:EST
DTSTART:20221106T060000
END:STANDARD
END:VTIMEZONE
BEGIN:VEVENT
DTSTART;TZID=America/New_York:20210622T190000
DTEND;TZID=America/New_York:20210622T230000
DTSTAMP:20260425T065559
CREATED:20201111T122726Z
LAST-MODIFIED:20210723T164628Z
UID:15408-1624388400-1624402800@old.queensbury.net
SUMMARY:Planning Board Meeting
DESCRIPTION:PUBLIC ANNOUNCEMENT: Queensbury Board Meetings\nBOARD MEETINGS: PUBLIC ANNOUNCEMENT\nPublic Meeting Formats: Physical and Virtual (Live) Town of Queensbury Board Meetings\nDuring the COVID-19 pandemic the Town of Queensbury will be providing alternative meeting formats for Queensbury Board meetings. Meetings will continue\, generally as scheduled\, with online availability and the following changes: \nBeginning in May:  All Planning Board and Zoning Board meetings will be in person and may not have accessibility via YouTube or Zoom.  \n 
URL:https://old.queensbury.net/event/planning-board-meeting-46-2021-02-23-2021-06-22/
LOCATION:ZOOM Meeting
END:VEVENT
BEGIN:VEVENT
DTSTART;TZID=America/New_York:20210616T190000
DTEND;TZID=America/New_York:20210616T230000
DTSTAMP:20260425T065559
CREATED:20191217T161851Z
LAST-MODIFIED:20210723T164425Z
UID:15249-1623870000-1623884400@old.queensbury.net
SUMMARY:Zoning Board Meeting
DESCRIPTION:PUBLIC ANNOUNCEMENT: Queensbury Board Meetings\nBOARD MEETINGS: PUBLIC ANNOUNCEMENT\nPublic Meeting Formats: Physical and Virtual (Live) Town of Queensbury Board Meetings\nDuring the COVID-19 pandemic the Town of Queensbury will be providing alternative meeting formats for Queensbury Board meetings. Meetings will continue\, generally as scheduled\, with online availability and the following changes: \nBeginning in May:  All Planning Board and Zoning Board meetings will be in person and may not have accessibility via YouTube or Zoom.  \n  \n 
URL:https://old.queensbury.net/event/zoning-board-meeting-22-2021-02-17-2021-04-21-2021-06-16/2021-06-16/
LOCATION:ZOOM Meeting
END:VEVENT
BEGIN:VEVENT
DTSTART;TZID=America/New_York:20210615T180000
DTEND;TZID=America/New_York:20210615T230000
DTSTAMP:20260425T065559
CREATED:20201111T140221Z
LAST-MODIFIED:20210723T164220Z
UID:16005-1623780000-1623798000@old.queensbury.net
SUMMARY:Planning Board Meeting
DESCRIPTION:PUBLIC ANNOUNCEMENT: Queensbury Board Meetings\nBOARD MEETINGS: PUBLIC ANNOUNCEMENT\nPublic Meeting Formats: Physical and Virtual (Live) Town of Queensbury Board Meetings\nDuring the COVID-19 pandemic the Town of Queensbury will be providing alternative meeting formats for Queensbury Board meetings. Meetings will continue\, generally as scheduled\, with online availability and the following changes: \nBeginning in May:  All Planning Board and Zoning Board meetings will be in person and may not have accessibility via YouTube or Zoom. 
URL:https://old.queensbury.net/event/planning-board-meeting-48-2021-02-16-2021-04-20-2021-06-15/2021-06-15/
LOCATION:ZOOM Meeting
END:VEVENT
BEGIN:VEVENT
DTSTART;TZID=America/New_York:20210526T190000
DTEND;TZID=America/New_York:20210526T230000
DTSTAMP:20260425T065559
CREATED:20201110T204406Z
LAST-MODIFIED:20210723T163948Z
UID:15284-1622055600-1622070000@old.queensbury.net
SUMMARY:Zoning Board Meeting
DESCRIPTION:PUBLIC ANNOUNCEMENT: Queensbury Board Meetings\nBOARD MEETINGS: PUBLIC ANNOUNCEMENT\nPublic Meeting Formats: Physical and Virtual (Live) Town of Queensbury Board Meetings\nDuring the COVID-19 pandemic the Town of Queensbury will be providing alternative meeting formats for Queensbury Board meetings. Meetings will continue\, generally as scheduled\, with online availability and the following changes: \nBeginning in May:  All Planning Board and Zoning Board meetings will be in person and may not have accessibility via YouTube or Zoom.  \n 
URL:https://old.queensbury.net/event/zoning-board-meeting-25-2021-02-24-2021-04-28/
LOCATION:ZOOM Meeting
END:VEVENT
BEGIN:VEVENT
DTSTART;TZID=America/New_York:20210519T190000
DTEND;TZID=America/New_York:20210519T230000
DTSTAMP:20260425T065559
CREATED:20191217T161851Z
LAST-MODIFIED:20210723T163715Z
UID:15248-1621450800-1621465200@old.queensbury.net
SUMMARY:Zoning Board Meeting
DESCRIPTION:PUBLIC ANNOUNCEMENT: Queensbury Board Meetings\nBOARD MEETINGS: PUBLIC ANNOUNCEMENT\nPublic Meeting Formats: Physical and Virtual (Live) Town of Queensbury Board Meetings\nDuring the COVID-19 pandemic the Town of Queensbury will be providing alternative meeting formats for Queensbury Board meetings. Meetings will continue\, generally as scheduled\, with online availability and the following changes: \nBeginning in May:  All Planning Board and Zoning Board meetings will be in person and may not have accessibility via YouTube or Zoom.  \n 
URL:https://old.queensbury.net/event/zoning-board-meeting-22-2021-02-17-2021-04-21-2021-05-19/
LOCATION:ZOOM Meeting
END:VEVENT
BEGIN:VEVENT
DTSTART;TZID=America/New_York:20210518T180000
DTEND;TZID=America/New_York:20210518T230000
DTSTAMP:20260425T065559
CREATED:20201111T140221Z
LAST-MODIFIED:20210723T163445Z
UID:16004-1621360800-1621378800@old.queensbury.net
SUMMARY:Planning Board Meeting
DESCRIPTION:PUBLIC ANNOUNCEMENT: Queensbury Board Meetings\nBOARD MEETINGS: PUBLIC ANNOUNCEMENT\nPublic Meeting Formats: Physical and Virtual (Live) Town of Queensbury Board Meetings\nDuring the COVID-19 pandemic the Town of Queensbury will be providing alternative meeting formats for Queensbury Board meetings. Meetings will continue\, generally as scheduled\, with online availability and the following changes: \nBeginning in May:  All Planning Board and Zoning Board meetings will be in person and may not have accessibility via YouTube or Zoom.   
URL:https://old.queensbury.net/event/planning-board-meeting-48-2021-02-16-2021-04-20-2021-05-18/
LOCATION:ZOOM Meeting
END:VEVENT
BEGIN:VEVENT
DTSTART;TZID=America/New_York:20210427T190000
DTEND;TZID=America/New_York:20210427T230000
DTSTAMP:20260425T065559
CREATED:20201111T122726Z
LAST-MODIFIED:20210401T131048Z
UID:15406-1619550000-1619564400@old.queensbury.net
SUMMARY:Planning Board Meeting
DESCRIPTION:PUBLIC ANNOUNCEMENT: Queensbury Board Meetings\nBOARD MEETINGS: PUBLIC ANNOUNCEMENT\nPublic Meeting Formats: Physical and Virtual (Live) Town of Queensbury Board Meetings\nDuring the COVID-19 pandemic the Town of Queensbury will be providing alternative meeting formats for Queensbury Board meetings. Meetings will continue\, generally as scheduled\, with online availability and the following changes:\nWhere: Activities Center and Town of Queensbury – YouTube\n742 Bay Road \nhttp://www.youtube.com/channel/UCY8U0sxGms2bJ0xIo-v1FGg \nBoard Meeting Format:Board members will be physically present at the Town’s Activities Center building.\nThe public will be allowed to physically attend but must abide by the Town’s posted COVID-19 Activity Center building rules.\nThe public will also be allowed to remote view live as shown above.\nThe public will be allowed to speak to the Board either in person (if present at the Activities Center) or by calling in (518 761- 8225).\nThis meeting will be convened in accordance with the Governor’s March 13\, 2020 Executive Order 202.1\, which suspends certain provisions of the Open meetings Law to allow a municipal Board to convene a meeting via videoconferencing. In accordance with the Executive order\, the public has been provided with the ability to view the meeting and a transcript will be provided at a later date. \n 
URL:https://old.queensbury.net/event/planning-board-meeting-46-2021-02-23-2021-04-27/
LOCATION:ZOOM Meeting
END:VEVENT
BEGIN:VEVENT
DTSTART;TZID=America/New_York:20210421T190000
DTEND;TZID=America/New_York:20210421T230000
DTSTAMP:20260425T065559
CREATED:20191217T161851Z
LAST-MODIFIED:20210401T130714Z
UID:15247-1619031600-1619046000@old.queensbury.net
SUMMARY:Zoning Board Meeting
DESCRIPTION:PUBLIC ANNOUNCEMENT: Queensbury Board Meetings\nBOARD MEETINGS: PUBLIC ANNOUNCEMENT\nPublic Meeting Formats: Physical and Virtual (Live) Town of Queensbury Board Meetings\nDuring the COVID-19 pandemic the Town of Queensbury will be providing alternative meeting formats for Queensbury Board meetings. Meetings will continue\, generally as scheduled\, with online availability and the following changes:\nWhere: Activities Center and Town of Queensbury – YouTube\n742 Bay Road \nhttp://www.youtube.com/channel/UCY8U0sxGms2bJ0xIo-v1FGg \nBoard Meeting Format:Board members will be physically present at the Town’s Activities Center building.\nThe public will be allowed to physically attend but must abide by the Town’s posted COVID-19 Activity Center building rules.\nThe public will also be allowed to remote view live as shown above.\nThe public will be allowed to speak to the Board either in person (if present at the Activities Center) or by calling in (518 761- 8225).\nThis meeting will be convened in accordance with the Governor’s March 13\, 2020 Executive Order 202.1\, which suspends certain provisions of the Open meetings Law to allow a municipal Board to convene a meeting via videoconferencing. In accordance with the Executive order\, the public has been provided with the ability to view the meeting and a transcript will be provided at a later date. \n  \n 
URL:https://old.queensbury.net/event/zoning-board-meeting-22-2021-02-17-2021-04-21/
LOCATION:ZOOM Meeting
END:VEVENT
BEGIN:VEVENT
DTSTART;TZID=America/New_York:20210420T180000
DTEND;TZID=America/New_York:20210420T230000
DTSTAMP:20260425T065559
CREATED:20201111T140221Z
LAST-MODIFIED:20210401T130511Z
UID:16003-1618941600-1618959600@old.queensbury.net
SUMMARY:Planning Board Meeting
DESCRIPTION:PUBLIC ANNOUNCEMENT: Queensbury Board Meetings\nBOARD MEETINGS: PUBLIC ANNOUNCEMENT\nPublic Meeting Formats: Physical and Virtual (Live) Town of Queensbury Board Meetings\nDuring the COVID-19 pandemic the Town of Queensbury will be providing alternative meeting formats for Queensbury Board meetings. Meetings will continue\, generally as scheduled\, with online availability and the following changes:\nWhere: Activities Center and Town of Queensbury – YouTube\n742 Bay Road \nhttp://www.youtube.com/channel/UCY8U0sxGms2bJ0xIo-v1FGg \nBoard Meeting Format:Board members will be physically present at the Town’s Activities Center building.\nThe public will be allowed to physically attend but must abide by the Town’s posted COVID-19 Activity Center building rules.\nThe public will also be allowed to remote view live as shown above.\nThe public will be allowed to speak to the Board either in person (if present at the Activities Center) or by calling in (518 761- 8225).\nThis meeting will be convened in accordance with the Governor’s March 13\, 2020 Executive Order 202.1\, which suspends certain provisions of the Open meetings Law to allow a municipal Board to convene a meeting via videoconferencing. In accordance with the Executive order\, the public has been provided with the ability to view the meeting and a transcript will be provided at a later date.
URL:https://old.queensbury.net/event/planning-board-meeting-48-2021-02-16-2021-04-20/
LOCATION:ZOOM Meeting
END:VEVENT
BEGIN:VEVENT
DTSTART;TZID=America/New_York:20210325T190000
DTEND;TZID=America/New_York:20210325T230000
DTSTAMP:20260425T065559
CREATED:20210218T185111Z
LAST-MODIFIED:20210218T194337Z
UID:16143-1616698800-1616713200@old.queensbury.net
SUMMARY:Planning Board Meeting
DESCRIPTION:To access this ZOOM webinar: \nHi there\, \nYou are invited to a Zoom webinar.\nWhen: Mar 25\, 2021 07:00 PM Eastern Time (US and Canada)\nTopic: Planning Board Meeting \nPlease click the link below to join the webinar: \nhttps://us02web.zoom.us/j/85363931359 \nOr iPhone one-tap :\nUS: +19292056099\,\,85363931359# or +13126266799\,\,85363931359#\nOr Telephone:\nDial(for higher quality\, dial a number based on your current location):\nUS: +1 929 205 6099 or +1 312 626 6799 or +1 301 715 8592 or +1 669 900 6833 or +1 253 215 8782 or +1 346 248 7799\nWebinar ID: 853 6393 1359\nInternational numbers available: https://us02web.zoom.us/u/kbk9IhxLNS \nOr\, scan the code below to access with your phone or tablet \n \n 
URL:https://old.queensbury.net/event/planning-board-meeting-53/
LOCATION:ZOOM Meeting
END:VEVENT
BEGIN:VEVENT
DTSTART;TZID=America/New_York:20210324T190000
DTEND;TZID=America/New_York:20210324T230000
DTSTAMP:20260425T065559
CREATED:20201110T204406Z
LAST-MODIFIED:20210218T193830Z
UID:15282-1616612400-1616626800@old.queensbury.net
SUMMARY:Zoning Board Meeting
DESCRIPTION:To access this ZOOM Webinar: \nHi there\, \nYou are invited to a Zoom webinar.\nWhen: Mar 24\, 2021 07:00 PM Eastern Time (US and Canada)\nTopic: Zoning Board of Appeals Meeting \nPlease click the link below to join the webinar: \nhttps://us02web.zoom.us/j/83995204346 \nOr iPhone one-tap :\nUS: +19292056099\,\,83995204346# or +13017158592\,\,83995204346#\nOr Telephone:\nDial(for higher quality\, dial a number based on your current location):\nUS: +1 929 205 6099 or +1 301 715 8592 or +1 312 626 6799 or +1 346 248 7799 or +1 669 900 6833 or +1 253 215 8782\nWebinar ID: 839 9520 4346\nInternational numbers available: https://us02web.zoom.us/u/kqV7B67zO \n  \nOr\, scan the code below with your phone or tablet: \n \n 
URL:https://old.queensbury.net/event/zoning-board-meeting-25-2021-02-24-2021-03-24/
LOCATION:ZOOM Meeting
END:VEVENT
BEGIN:VEVENT
DTSTART;TZID=America/New_York:20210323T190000
DTEND;TZID=America/New_York:20210323T230000
DTSTAMP:20260425T065559
CREATED:20201111T122726Z
LAST-MODIFIED:20210218T192953Z
UID:15405-1616526000-1616540400@old.queensbury.net
SUMMARY:Planning Board Meeting
DESCRIPTION:To access this ZOOM webinar: \nHi there\, \nYou are invited to a Zoom webinar.\nWhen: Mar 23\, 2021 07:00 PM Eastern Time (US and Canada)\nTopic: Planning Board Meeting \nPlease click the link below to join the webinar: \nhttps://us02web.zoom.us/j/88365200733 \nOr iPhone one-tap :\nUS: +19292056099\,\,88365200733# or +13126266799\,\,88365200733#\nOr Telephone:\nDial(for higher quality\, dial a number based on your current location):\nUS: +1 929 205 6099 or +1 312 626 6799 or +1 301 715 8592 or +1 253 215 8782 or +1 346 248 7799 or +1 669 900 6833\nWebinar ID: 883 6520 0733\nInternational numbers available: https://us02web.zoom.us/u/kdY0LWzHW2 \n  \nOr\, you can scan the code below with your phone or tablet: \n \n 
URL:https://old.queensbury.net/event/planning-board-meeting-46-2021-02-23-2021-03-23/2021-03-23/
LOCATION:ZOOM Meeting
END:VEVENT
BEGIN:VEVENT
DTSTART;TZID=America/New_York:20210317T190000
DTEND;TZID=America/New_York:20210317T230000
DTSTAMP:20260425T065559
CREATED:20191217T161851Z
LAST-MODIFIED:20210302T141126Z
UID:15246-1616007600-1616022000@old.queensbury.net
SUMMARY:Zoning Board Meeting
DESCRIPTION:To access the ZOOM meeting: \nHi there\, \nYou are invited to a Zoom webinar.\nWhen: Mar 17\, 2021 07:00 PM Eastern Time (US and Canada)\nTopic: Zoning Board of Appeals Meeting \nPlease click the link below to join the webinar: \nhttps://us02web.zoom.us/j/82459718893 \nOr iPhone one-tap :\nUS: +19292056099\,\,82459718893# or +13126266799\,\,82459718893#\nOr Telephone:\nDial(for higher quality\, dial a number based on your current location):\nUS: +1 929 205 6099 or +1 312 626 6799 or +1 301 715 8592 or +1 669 900 6833 or +1 253 215 8782 or +1 346 248 7799\nWebinar ID: 824 5971 8893\nInternational numbers available: https://us02web.zoom.us/u/krVvQ0LBU \n  \nOr\, to access the webinar\, scan the code below with your phone or tablet: \n \n  \n 
URL:https://old.queensbury.net/event/zoning-board-meeting-22-2021-02-17-2021-03-17/
LOCATION:ZOOM Meeting
END:VEVENT
BEGIN:VEVENT
DTSTART;TZID=America/New_York:20210316T180000
DTEND;TZID=America/New_York:20210316T230000
DTSTAMP:20260425T065559
CREATED:20201111T140221Z
LAST-MODIFIED:20210218T191703Z
UID:16002-1615917600-1615935600@old.queensbury.net
SUMMARY:Planning Board Meeting
DESCRIPTION:To access ZOOM Webinar: \nHi there\, \nYou are invited to a Zoom webinar.\nWhen: Mar 16\, 2021 07:00 PM Eastern Time (US and Canada)\nTopic: Planning Board Meeting \nPlease click the link below to join the webinar: \nhttps://us02web.zoom.us/j/87456232442 \nOr iPhone one-tap :\nUS: +19292056099\,\,87456232442# or +13017158592\,\,87456232442#\nOr Telephone:\nDial(for higher quality\, dial a number based on your current location):\nUS: +1 929 205 6099 or +1 301 715 8592 or +1 312 626 6799 or +1 346 248 7799 or +1 669 900 6833 or +1 253 215 8782\nWebinar ID: 874 5623 2442\nInternational numbers available: https://us02web.zoom.us/u/kMDWjikVd \n  \nOr\, to access the meeting\, please scan the code below with \nyour phone or tablet. \n \n  \n 
URL:https://old.queensbury.net/event/planning-board-meeting-48-2021-02-16-2021-03-16/
LOCATION:ZOOM Meeting
END:VEVENT
BEGIN:VEVENT
DTSTART;TZID=America/New_York:20210224T190000
DTEND;TZID=America/New_York:20210224T230000
DTSTAMP:20260425T065559
CREATED:20201110T204406Z
LAST-MODIFIED:20210128T171327Z
UID:15281-1614193200-1614207600@old.queensbury.net
SUMMARY:Zoning Board Meeting
DESCRIPTION:To access this ZOOM Webinar: \nHi there\, \nYou are invited to a Zoom webinar.\nWhen: Feb 24\, 2021 07:00 PM Eastern Time (US and Canada)\nTopic: Zoning Board of Appeals Meeting \nPlease click the link below to join the webinar: \nhttps://us02web.zoom.us/j/81497044174 \nOr iPhone one-tap :\nUS: +19292056099\,\,81497044174# or +13017158592\,\,81497044174#\nOr Telephone:\nDial(for higher quality\, dial a number based on your current location):\nUS: +1 929 205 6099 or +1 301 715 8592 or +1 312 626 6799 or +1 669 900 6833 or +1 253 215 8782 or +1 346 248 7799\nWebinar ID: 814 9704 4174\nInternational numbers available: https://us02web.zoom.us/u/kgs0Caubq \nOr\, scan the code below with your phone or tablet: \n \n 
URL:https://old.queensbury.net/event/zoning-board-meeting-25-2021-02-24/
LOCATION:ZOOM Meeting
END:VEVENT
BEGIN:VEVENT
DTSTART;TZID=America/New_York:20210223T190000
DTEND;TZID=America/New_York:20210223T230000
DTSTAMP:20260425T065559
CREATED:20201111T122726Z
LAST-MODIFIED:20210218T193302Z
UID:15404-1614106800-1614121200@old.queensbury.net
SUMMARY:Planning Board Meeting
DESCRIPTION:To access this ZOOM webinar: \nHi there\, \nYou are invited to a Zoom webinar.\nWhen: Feb 23\, 2021 07:00 PM Eastern Time (US and Canada)\nTopic: Planning Board Meeting \nPlease click the link below to join the webinar: \nhttps://us02web.zoom.us/j/83552476120 \nOr iPhone one-tap :\nUS: +19292056099\,\,83552476120# or +13017158592\,\,83552476120#\nOr Telephone:\nDial(for higher quality\, dial a number based on your current location):\nUS: +1 929 205 6099 or +1 301 715 8592 or +1 312 626 6799 or +1 669 900 6833 or +1 253 215 8782 or +1 346 248 7799\nWebinar ID: 835 5247 6120\nInternational numbers available: https://us02web.zoom.us/u/kcqEmJVFgl \n  \n  \nOr\, you can scan the code below with your phone or tablet: \n \n 
URL:https://old.queensbury.net/event/planning-board-meeting-46-2021-02-23/
LOCATION:ZOOM Meeting
END:VEVENT
BEGIN:VEVENT
DTSTART;TZID=America/New_York:20210217T190000
DTEND;TZID=America/New_York:20210217T230000
DTSTAMP:20260425T065559
CREATED:20191217T161851Z
LAST-MODIFIED:20210218T192106Z
UID:15245-1613588400-1613602800@old.queensbury.net
SUMMARY:Zoning Board Meeting
DESCRIPTION:To access the ZOOM meeting: \nHi there\, \nYou are invited to a Zoom webinar.\nWhen: Mar 17\, 2021 07:00 PM Eastern Time (US and Canada)\nTopic: Zoning Board of Appeals Meeting \nPlease click the link below to join the webinar: \nhttps://us02web.zoom.us/j/82459718893 \nOr iPhone one-tap :\nUS: +19292056099\,\,82459718893# or +13126266799\,\,82459718893#\nOr Telephone:\nDial(for higher quality\, dial a number based on your current location):\nUS: +1 929 205 6099 or +1 312 626 6799 or +1 301 715 8592 or +1 669 900 6833 or +1 253 215 8782 or +1 346 248 7799\nWebinar ID: 824 5971 8893\nInternational numbers available: https://us02web.zoom.us/u/krVvQ0LBU \n  \nOr\, to access the webinar\, scan the code below with your phone or tablet: \n \n  \n 
URL:https://old.queensbury.net/event/zoning-board-meeting-22-2021-02-17/
LOCATION:ZOOM Meeting
END:VEVENT
BEGIN:VEVENT
DTSTART;TZID=America/New_York:20210216T180000
DTEND;TZID=America/New_York:20210216T230000
DTSTAMP:20260425T065559
CREATED:20201111T140221Z
LAST-MODIFIED:20210128T165448Z
UID:15374-1613498400-1613516400@old.queensbury.net
SUMMARY:Planning Board Meeting
DESCRIPTION:To access ZOOM Webinar: \nHi there\, \nYou are invited to a Zoom webinar.\nWhen: Feb 16\, 2021 06:00 PM Eastern Time (US and Canada)\nTopic: Planning Board meeting \nPlease click the link below to join the webinar: \nhttps://us02web.zoom.us/j/83033021857 \nOr iPhone one-tap :\nUS: +19292056099\,\,83033021857# or +13126266799\,\,83033021857#\nOr Telephone:\nDial(for higher quality\, dial a number based on your current location):\nUS: +1 929 205 6099 or +1 312 626 6799 or +1 301 715 8592 or +1 669 900 6833 or +1 253 215 8782 or +1 346 248 7799\nWebinar ID: 830 3302 1857\nInternational numbers available: https://us02web.zoom.us/u/kXbbE7YeL \nOr\, to access the meeting\, please scan the code below with \nyour phone or tablet. \n  \n \n 
URL:https://old.queensbury.net/event/planning-board-meeting-48-2021-02-16/
LOCATION:ZOOM Meeting
END:VEVENT
END:VCALENDAR