BEGIN:VCALENDAR
VERSION:2.0
PRODID:-//Town of Queensbury - ECPv6.15.11//NONSGML v1.0//EN
CALSCALE:GREGORIAN
METHOD:PUBLISH
X-ORIGINAL-URL:https://old.queensbury.net
X-WR-CALDESC:Events for Town of Queensbury
REFRESH-INTERVAL;VALUE=DURATION:PT1H
X-Robots-Tag:noindex
X-PUBLISHED-TTL:PT1H
BEGIN:VTIMEZONE
TZID:America/New_York
BEGIN:DAYLIGHT
TZOFFSETFROM:-0500
TZOFFSETTO:-0400
TZNAME:EDT
DTSTART:20170312T070000
END:DAYLIGHT
BEGIN:STANDARD
TZOFFSETFROM:-0400
TZOFFSETTO:-0500
TZNAME:EST
DTSTART:20171105T060000
END:STANDARD
BEGIN:DAYLIGHT
TZOFFSETFROM:-0500
TZOFFSETTO:-0400
TZNAME:EDT
DTSTART:20180311T070000
END:DAYLIGHT
BEGIN:STANDARD
TZOFFSETFROM:-0400
TZOFFSETTO:-0500
TZNAME:EST
DTSTART:20181104T060000
END:STANDARD
BEGIN:DAYLIGHT
TZOFFSETFROM:-0500
TZOFFSETTO:-0400
TZNAME:EDT
DTSTART:20190310T070000
END:DAYLIGHT
BEGIN:STANDARD
TZOFFSETFROM:-0400
TZOFFSETTO:-0500
TZNAME:EST
DTSTART:20191103T060000
END:STANDARD
END:VTIMEZONE
BEGIN:VEVENT
DTSTART;TZID=America/New_York:20180616T120000
DTEND;TZID=America/New_York:20180616T140000
DTSTAMP:20260425T122454
CREATED:20180611T142418Z
LAST-MODIFIED:20180611T142418Z
UID:6995-1529150400-1529157600@old.queensbury.net
SUMMARY:Southern Adirondacks For Solar Campaign Event
DESCRIPTION:The Queensbury Clean Energy Community Committee is sponsoring these FREE Solarize Campaign Events. Glens Falls is a supporter.\nAPEX SOLAR POWER and SOLAR LIBERTY will be present to discuss: \n\nInstalling solar panels on your home\nFinancial incentives for group purchasing\nCurrent rebates and tax credits
URL:https://old.queensbury.net/event/southern-adirondacks-for-solar-campaign-event/
LOCATION:Haviland Cove (along the Hudson River) in Glens Falls\, Glens Falls
CATEGORIES:Community
GEO:43.3095164;-73.6440058
END:VEVENT
END:VCALENDAR