BEGIN:VCALENDAR
VERSION:2.0
PRODID:-//Town of Queensbury - ECPv6.15.11//NONSGML v1.0//EN
CALSCALE:GREGORIAN
METHOD:PUBLISH
X-ORIGINAL-URL:https://old.queensbury.net
X-WR-CALDESC:Events for Town of Queensbury
REFRESH-INTERVAL;VALUE=DURATION:PT1H
X-Robots-Tag:noindex
X-PUBLISHED-TTL:PT1H
BEGIN:VTIMEZONE
TZID:America/New_York
BEGIN:DAYLIGHT
TZOFFSETFROM:-0500
TZOFFSETTO:-0400
TZNAME:EDT
DTSTART:20240310T070000
END:DAYLIGHT
BEGIN:STANDARD
TZOFFSETFROM:-0400
TZOFFSETTO:-0500
TZNAME:EST
DTSTART:20241103T060000
END:STANDARD
BEGIN:DAYLIGHT
TZOFFSETFROM:-0500
TZOFFSETTO:-0400
TZNAME:EDT
DTSTART:20250309T070000
END:DAYLIGHT
BEGIN:STANDARD
TZOFFSETFROM:-0400
TZOFFSETTO:-0500
TZNAME:EST
DTSTART:20251102T060000
END:STANDARD
BEGIN:DAYLIGHT
TZOFFSETFROM:-0500
TZOFFSETTO:-0400
TZNAME:EDT
DTSTART:20260308T070000
END:DAYLIGHT
BEGIN:STANDARD
TZOFFSETFROM:-0400
TZOFFSETTO:-0500
TZNAME:EST
DTSTART:20261101T060000
END:STANDARD
END:VTIMEZONE
BEGIN:VEVENT
DTSTART;VALUE=DATE:20250704
DTEND;VALUE=DATE:20250705
DTSTAMP:20260424T231405
CREATED:20241101T172912Z
LAST-MODIFIED:20241101T172912Z
UID:21213-1751587200-1751673599@old.queensbury.net
SUMMARY:Independence Day – Town Offices CLOSED
DESCRIPTION:Queensbury Town Offices closed in observance of Independence Day.
URL:https://old.queensbury.net/event/independence-day-town-offices-closed-6/
LOCATION:NY
END:VEVENT
BEGIN:VEVENT
DTSTART;TZID=America/New_York:20250707T190000
DTEND;TZID=America/New_York:20250707T190000
DTSTAMP:20260424T231405
CREATED:20241105T205146Z
LAST-MODIFIED:20250703T124007Z
UID:21265-1751914800-1751914800@old.queensbury.net
SUMMARY:Town Board Meeting
DESCRIPTION:When: Jul 7\, 2025 07:00 PM Eastern Time (US and Canada)\nTopic: QBY TOWN BOARD MEETING MONDAY JULY 7 2025 7 PM \nJoin from PC\, Mac\, iPad\, or Android:\nhttps://us02web.zoom.us/j/89708909156 \nPhone one-tap:\n+16469313860\,\,89708909156# US\n+19292056099\,\,89708909156# US (New York) \nJoin via audio:\n+1 646 931 3860 US\n+1 929 205 6099 US (New York)\n+1 301 715 8592 US (Washington DC)\n+1 305 224 1968 US\n+1 309 205 3325 US\n+1 312 626 6799 US (Chicago)\n+1 346 248 7799 US (Houston)\n+1 360 209 5623 US\n+1 386 347 5053 US\n+1 507 473 4847 US\n+1 564 217 2000 US\n+1 669 444 9171 US\n+1 669 900 6833 US (San Jose)\n+1 689 278 1000 US\n+1 719 359 4580 US\n+1 253 205 0468 US\n+1 253 215 8782 US (Tacoma)\nWebinar ID: 897 0890 9156\nInternational numbers available: https://us02web.zoom.us/u/kbDIH8huA0
URL:https://old.queensbury.net/event/town-board-meeting-210/
LOCATION:Queensbury Activity Center & Online\, 742 Bay Rd\, Queensbury\, NY\, 12804\, United States
END:VEVENT
BEGIN:VEVENT
DTSTART;TZID=America/New_York:20250715T190000
DTEND;TZID=America/New_York:20250715T190000
DTSTAMP:20260424T231405
CREATED:20241206T170633Z
LAST-MODIFIED:20241206T170633Z
UID:21394-1752606000-1752606000@old.queensbury.net
SUMMARY:Planning Board Meeting
DESCRIPTION:PUBLIC ANNOUNCEMENT: Queensbury Board Meetings \nPublic Meeting Format: Physical\, in person \nThe public will be allowed to speak to the Board in person. \nAgenda can be viewed here on the Town website.
URL:https://old.queensbury.net/event/planning-board-meeting-144/
LOCATION:Queensbury Activity Center\, 742 Bay Road\, Queensbury \, NY\, 12804\, United States
END:VEVENT
BEGIN:VEVENT
DTSTART;TZID=America/New_York:20250716T150000
DTEND;TZID=America/New_York:20250716T150000
DTSTAMP:20260424T231405
CREATED:20250714T134906Z
LAST-MODIFIED:20250714T134906Z
UID:22161-1752678000-1752678000@old.queensbury.net
SUMMARY:Town Board Workshop
DESCRIPTION:When: Jul 16\, 2025 03:00 PM Eastern Time (US and Canada)\nTopic: QBY TOWN BOARD WORKSHOP WED JULY 16 2025 3 PM \nJoin from PC\, Mac\, iPad\, or Android:\nhttps://us02web.zoom.us/j/85855457734 \nPhone one-tap:\n+16469313860\,\,85855457734# US\n+19292056099\,\,85855457734# US (New York) \nJoin via audio:\n+1 646 931 3860 US\n+1 929 205 6099 US (New York)\n+1 309 205 3325 US\n+1 312 626 6799 US (Chicago)\n+1 301 715 8592 US (Washington DC)\n+1 305 224 1968 US\n+1 689 278 1000 US\n+1 719 359 4580 US\n+1 253 205 0468 US\n+1 253 215 8782 US (Tacoma)\n+1 346 248 7799 US (Houston)\n+1 360 209 5623 US\n+1 386 347 5053 US\n+1 507 473 4847 US\n+1 564 217 2000 US\n+1 669 444 9171 US\n+1 669 900 6833 US (San Jose)\nWebinar ID: 858 5545 7734\nInternational numbers available: https://us02web.zoom.us/u/kxuuEee3E
URL:https://old.queensbury.net/event/town-board-workshop-110/
LOCATION:Supervisor’s Conference Room\, 724 Bay Rd.\, Queensbury\, NY\, 12804
END:VEVENT
BEGIN:VEVENT
DTSTART;TZID=America/New_York:20250716T190000
DTEND;TZID=America/New_York:20250716T190000
DTSTAMP:20260424T231405
CREATED:20241206T174955Z
LAST-MODIFIED:20241206T174955Z
UID:21455-1752692400-1752692400@old.queensbury.net
SUMMARY:Zoning Board Meeting
DESCRIPTION:PUBLIC ANNOUNCEMENT: Queensbury Board Meetings \nPublic Meeting Format: Physical\, in person \nThe public will be allowed to speak to the Board in person. \nAgenda can be viewed here on the Town website.
URL:https://old.queensbury.net/event/zoning-board-meeting-108/
LOCATION:Queensbury Activity Center\, 742 Bay Road\, Queensbury \, NY\, 12804\, United States
END:VEVENT
BEGIN:VEVENT
DTSTART;TZID=America/New_York:20250721T190000
DTEND;TZID=America/New_York:20250721T190000
DTSTAMP:20260424T231405
CREATED:20241105T205153Z
LAST-MODIFIED:20250717T184440Z
UID:21266-1753124400-1753124400@old.queensbury.net
SUMMARY:Town Board Meeting
DESCRIPTION:When: Jul 21\, 2025 07:00 PM Eastern Time (US and Canada)\nTopic: QBY TOWN BOARD MEETING MONDAY JULY 21 2025 7 PM \nJoin from PC\, Mac\, iPad\, or Android:\nhttps://us02web.zoom.us/j/84826194962 \nPhone one-tap:\n+16469313860\,\,84826194962# US\n+19292056099\,\,84826194962# US (New York) \nJoin via audio:\n+1 646 931 3860 US\n+1 929 205 6099 US (New York)\n+1 309 205 3325 US\n+1 312 626 6799 US (Chicago)\n+1 301 715 8592 US (Washington DC)\n+1 305 224 1968 US\n+1 669 900 6833 US (San Jose)\n+1 689 278 1000 US\n+1 719 359 4580 US\n+1 253 205 0468 US\n+1 253 215 8782 US (Tacoma)\n+1 346 248 7799 US (Houston)\n+1 360 209 5623 US\n+1 386 347 5053 US\n+1 507 473 4847 US\n+1 564 217 2000 US\n+1 669 444 9171 US\nWebinar ID: 848 2619 4962\nInternational numbers available: https://us02web.zoom.us/u/keE68Jmy7M
URL:https://old.queensbury.net/event/town-board-meeting-211/
LOCATION:Queensbury Activity Center & Online\, 742 Bay Rd\, Queensbury\, NY\, 12804\, United States
END:VEVENT
BEGIN:VEVENT
DTSTART;TZID=America/New_York:20250722T190000
DTEND;TZID=America/New_York:20250722T190000
DTSTAMP:20260424T231405
CREATED:20241206T170640Z
LAST-MODIFIED:20241206T170640Z
UID:21395-1753210800-1753210800@old.queensbury.net
SUMMARY:Planning Board Meeting
DESCRIPTION:PUBLIC ANNOUNCEMENT: Queensbury Board Meetings \nPublic Meeting Format: Physical\, in person \nThe public will be allowed to speak to the Board in person. \nAgenda can be viewed here on the Town website.
URL:https://old.queensbury.net/event/planning-board-meeting-145/
LOCATION:Queensbury Activity Center\, 742 Bay Road\, Queensbury \, NY\, 12804\, United States
END:VEVENT
BEGIN:VEVENT
DTSTART;TZID=America/New_York:20250723T190000
DTEND;TZID=America/New_York:20250723T190000
DTSTAMP:20260424T231405
CREATED:20241206T175002Z
LAST-MODIFIED:20241206T175002Z
UID:21456-1753297200-1753297200@old.queensbury.net
SUMMARY:Zoning Board Meeting
DESCRIPTION:PUBLIC ANNOUNCEMENT: Queensbury Board Meetings \nPublic Meeting Format: Physical\, in person \nThe public will be allowed to speak to the Board in person. \nAgenda can be viewed here on the Town website.
URL:https://old.queensbury.net/event/zoning-board-meeting-109/
LOCATION:Queensbury Activity Center\, 742 Bay Road\, Queensbury \, NY\, 12804\, United States
END:VEVENT
END:VCALENDAR