BEGIN:VCALENDAR
VERSION:2.0
PRODID:-//Town of Queensbury - ECPv6.15.11//NONSGML v1.0//EN
CALSCALE:GREGORIAN
METHOD:PUBLISH
X-ORIGINAL-URL:https://old.queensbury.net
X-WR-CALDESC:Events for Town of Queensbury
REFRESH-INTERVAL;VALUE=DURATION:PT1H
X-Robots-Tag:noindex
X-PUBLISHED-TTL:PT1H
BEGIN:VTIMEZONE
TZID:America/New_York
BEGIN:DAYLIGHT
TZOFFSETFROM:-0500
TZOFFSETTO:-0400
TZNAME:EDT
DTSTART:20170312T070000
END:DAYLIGHT
BEGIN:STANDARD
TZOFFSETFROM:-0400
TZOFFSETTO:-0500
TZNAME:EST
DTSTART:20171105T060000
END:STANDARD
BEGIN:DAYLIGHT
TZOFFSETFROM:-0500
TZOFFSETTO:-0400
TZNAME:EDT
DTSTART:20180311T070000
END:DAYLIGHT
BEGIN:STANDARD
TZOFFSETFROM:-0400
TZOFFSETTO:-0500
TZNAME:EST
DTSTART:20181104T060000
END:STANDARD
BEGIN:DAYLIGHT
TZOFFSETFROM:-0500
TZOFFSETTO:-0400
TZNAME:EDT
DTSTART:20190310T070000
END:DAYLIGHT
BEGIN:STANDARD
TZOFFSETFROM:-0400
TZOFFSETTO:-0500
TZNAME:EST
DTSTART:20191103T060000
END:STANDARD
END:VTIMEZONE
BEGIN:VEVENT
DTSTART;TZID=America/New_York:20180702T190000
DTEND;TZID=America/New_York:20180702T190000
DTSTAMP:20260421T033111
CREATED:20171121T170702Z
LAST-MODIFIED:20171121T170702Z
UID:6254-1530558000-1530558000@old.queensbury.net
SUMMARY:Town Board Meeting
DESCRIPTION:
URL:https://old.queensbury.net/event/town-board-meeting-39/
LOCATION:Queensbury Activity Center\, 742 Bay Rd\, Queensbury\, NY\, 12804\, United States
CATEGORIES:Town Board Meeting
GEO:43.359753;-73.656527
X-APPLE-STRUCTURED-LOCATION;VALUE=URI;X-ADDRESS=Queensbury Activity Center 742 Bay Rd Queensbury NY 12804 United States;X-APPLE-RADIUS=500;X-TITLE=742 Bay Rd:geo:-73.656527,43.359753
END:VEVENT
BEGIN:VEVENT
DTSTART;TZID=America/New_York:20180709T190000
DTEND;TZID=America/New_York:20180709T220000
DTSTAMP:20260421T033111
CREATED:20180627T234143Z
LAST-MODIFIED:20180706T171430Z
UID:7063-1531162800-1531173600@old.queensbury.net
SUMMARY:Town Board Workshop
DESCRIPTION:
URL:https://old.queensbury.net/event/town-board-workshop-27/
LOCATION:Supervisor’s Conference Room\, 724 Bay Rd.\, Queensbury\, NY\, 12804
END:VEVENT
BEGIN:VEVENT
DTSTART;TZID=America/New_York:20180711T170000
DTEND;TZID=America/New_York:20180711T190000
DTSTAMP:20260421T033111
CREATED:20180626T230604Z
LAST-MODIFIED:20180629T014202Z
UID:7058-1531328400-1531335600@old.queensbury.net
SUMMARY:Southern Adirondacks for Solar at the Glens Falls Take-A-Bite
DESCRIPTION:Have you thought about using the SUN to produce Electricity for your Home? We can HELP. Join Us.\nSouthern Adirondacks for Solar\nMeet – N – Greet on July 11\, 2018 \nCome see us at the Glens Falls Take-A-Bite in downtown Glens Falls!\nFree Food and Drink and meet the Solar Company Partners! \nFor more information: https://old.queensbury.net/departments/clean-energy-community/southern-adirondacks-for-solar/
URL:https://old.queensbury.net/event/7058/
LOCATION:NY
CATEGORIES:Community
END:VEVENT
BEGIN:VEVENT
DTSTART;TZID=America/New_York:20180712T173000
DTEND;TZID=America/New_York:20180712T190000
DTSTAMP:20260421T033111
CREATED:20180622T200221Z
LAST-MODIFIED:20180622T200221Z
UID:7043-1531416600-1531422000@old.queensbury.net
SUMMARY:Southern Adirondacks for Solar Meet 'n Greet!
DESCRIPTION:Have you thought about using the SUN to produce Electricity for your Home? We can HELP. Join Us.\nSouthern Adirondacks for Solar\nMeet – N – Greet on July 12\, 2018 5-7pm\nEvent is at The HUB (Exit 25 off I-87 – 27 Market St\, Brant Lake\, NY)\nFree Food and Drink and meet the Solar Company Partners \nFor more information: www.queensbury.net
URL:https://old.queensbury.net/event/southern-adirondacks-for-solar-meet-n-greet/
LOCATION:The Hub\, 27 Market St.\, Brant Lake\, NY\, 12804\, United States
CATEGORIES:Community
ATTACH;FMTTYPE=image/jpeg:https://old.queensbury.net/wp-content/uploads/2018/06/SAS-invite-071218.jpg
GEO:43.6774567;-73.7505758
X-APPLE-STRUCTURED-LOCATION;VALUE=URI;X-ADDRESS=The Hub 27 Market St. Brant Lake NY 12804 United States;X-APPLE-RADIUS=500;X-TITLE=27 Market St.:geo:-73.7505758,43.6774567
END:VEVENT
BEGIN:VEVENT
DTSTART;TZID=America/New_York:20180716T190000
DTEND;TZID=America/New_York:20180716T190000
DTSTAMP:20260421T033111
CREATED:20171121T170736Z
LAST-MODIFIED:20171121T172001Z
UID:6255-1531767600-1531767600@old.queensbury.net
SUMMARY:Town Board Meeting
DESCRIPTION:
URL:https://old.queensbury.net/event/town-queensbury-town-board-meeting-2/
LOCATION:Queensbury Activity Center\, 742 Bay Rd\, Queensbury\, NY\, 12804\, United States
CATEGORIES:Town Board Meeting
GEO:43.359753;-73.656527
X-APPLE-STRUCTURED-LOCATION;VALUE=URI;X-ADDRESS=Queensbury Activity Center 742 Bay Rd Queensbury NY 12804 United States;X-APPLE-RADIUS=500;X-TITLE=742 Bay Rd:geo:-73.656527,43.359753
END:VEVENT
BEGIN:VEVENT
DTSTART;TZID=America/New_York:20180721T080000
DTEND;TZID=America/New_York:20180721T120000
DTSTAMP:20260421T033111
CREATED:20180629T153445Z
LAST-MODIFIED:20180629T153445Z
UID:7072-1532160000-1532174400@old.queensbury.net
SUMMARY:Farmers' Market
DESCRIPTION:​For more than 40 years the Glens Falls Farmers’ Market Association has been bringing locally grown\, produced and crafted products to the communities surrounding Glens Falls. Our markets are “producer-only” markets\, meaning\, the folks\, and their helpers\, who sell to you each Saturday\, are also the people who have grown or produced those products. \n​Activities for kids\, Live Music…There’s always something to do at the Market!\n​Stop by and see for yourself.
URL:https://old.queensbury.net/event/farmers-market/
LOCATION:Glens Falls Farmers Market\, Elm Street\, Glens Falls\, NY\, 12801
CATEGORIES:Community
GEO:43.3098046;-73.6481892
X-APPLE-STRUCTURED-LOCATION;VALUE=URI;X-ADDRESS=Glens Falls Farmers Market Elm Street Glens Falls NY 12801;X-APPLE-RADIUS=500;X-TITLE=Elm Street:geo:-73.6481892,43.3098046
END:VEVENT
BEGIN:VEVENT
DTSTART;TZID=America/New_York:20180725T170000
DTEND;TZID=America/New_York:20180725T190000
DTSTAMP:20260421T033111
CREATED:20180629T053454Z
LAST-MODIFIED:20180629T053454Z
UID:7067-1532538000-1532545200@old.queensbury.net
SUMMARY:Southern Adirondacks for Solar at the Glens Falls Take-A-Bite
DESCRIPTION:Have you thought about using the SUN to produce Electricity for your Home? We can HELP. Join Us.\nSouthern Adirondacks for Solar\nMeet – N – Greet on July 11\, 2018 \nCome see us at the Glens Falls Take-A-Bite in downtown Glens Falls!\nFree Food and Drink and meet the Solar Company Partners! \nFor more information: https://old.queensbury.net/departments/clean-energy-community/southern-adirondacks-for-solar/
URL:https://old.queensbury.net/event/southern-adirondacks-for-solar-at-the-glens-falls-take-a-bite/
LOCATION:NY
CATEGORIES:Community
END:VEVENT
END:VCALENDAR