BEGIN:VCALENDAR
VERSION:2.0
PRODID:-//Town of Queensbury - ECPv6.15.11//NONSGML v1.0//EN
CALSCALE:GREGORIAN
METHOD:PUBLISH
X-WR-CALNAME:Town of Queensbury
X-ORIGINAL-URL:https://old.queensbury.net
X-WR-CALDESC:Events for Town of Queensbury
REFRESH-INTERVAL;VALUE=DURATION:PT1H
X-Robots-Tag:noindex
X-PUBLISHED-TTL:PT1H
BEGIN:VTIMEZONE
TZID:America/New_York
BEGIN:DAYLIGHT
TZOFFSETFROM:-0500
TZOFFSETTO:-0400
TZNAME:EDT
DTSTART:20160313T070000
END:DAYLIGHT
BEGIN:STANDARD
TZOFFSETFROM:-0400
TZOFFSETTO:-0500
TZNAME:EST
DTSTART:20161106T060000
END:STANDARD
BEGIN:DAYLIGHT
TZOFFSETFROM:-0500
TZOFFSETTO:-0400
TZNAME:EDT
DTSTART:20170312T070000
END:DAYLIGHT
BEGIN:STANDARD
TZOFFSETFROM:-0400
TZOFFSETTO:-0500
TZNAME:EST
DTSTART:20171105T060000
END:STANDARD
BEGIN:DAYLIGHT
TZOFFSETFROM:-0500
TZOFFSETTO:-0400
TZNAME:EDT
DTSTART:20180311T070000
END:DAYLIGHT
BEGIN:STANDARD
TZOFFSETFROM:-0400
TZOFFSETTO:-0500
TZNAME:EST
DTSTART:20181104T060000
END:STANDARD
BEGIN:DAYLIGHT
TZOFFSETFROM:-0500
TZOFFSETTO:-0400
TZNAME:EDT
DTSTART:20190310T070000
END:DAYLIGHT
BEGIN:STANDARD
TZOFFSETFROM:-0400
TZOFFSETTO:-0500
TZNAME:EST
DTSTART:20191103T060000
END:STANDARD
END:VTIMEZONE
BEGIN:VEVENT
DTSTART;TZID=America/New_York:20180122T190000
DTEND;TZID=America/New_York:20180122T190000
DTSTAMP:20260423T025414
CREATED:20171120T221044Z
LAST-MODIFIED:20171120T221044Z
UID:6215-1516647600-1516647600@old.queensbury.net
SUMMARY:Town Board Meeting
DESCRIPTION:
URL:https://old.queensbury.net/event/town-board-meeting-30/
LOCATION:Queensbury Activity Center\, 742 Bay Rd\, Queensbury\, NY\, 12804\, United States
CATEGORIES:Town Board Meeting
GEO:43.359753;-73.656527
X-APPLE-STRUCTURED-LOCATION;VALUE=URI;X-ADDRESS=Queensbury Activity Center 742 Bay Rd Queensbury NY 12804 United States;X-APPLE-RADIUS=500;X-TITLE=742 Bay Rd:geo:-73.656527,43.359753
END:VEVENT
BEGIN:VEVENT
DTSTART;TZID=America/New_York:20180118T130000
DTEND;TZID=America/New_York:20180118T130000
DTSTAMP:20260423T025414
CREATED:20180117T181934Z
LAST-MODIFIED:20180117T183100Z
UID:6513-1516280400-1516280400@old.queensbury.net
SUMMARY:Town Board workshop
DESCRIPTION:
URL:https://old.queensbury.net/event/town-board-workshop-14/
LOCATION:Supervisor’s Conference Room\, 724 Bay Rd.\, Queensbury\, NY\, 12804
END:VEVENT
BEGIN:VEVENT
DTSTART;TZID=America/New_York:20180117T190000
DTEND;TZID=America/New_York:20180117T230000
DTSTAMP:20260423T025414
CREATED:20171201T141503Z
LAST-MODIFIED:20171201T141503Z
UID:6387-1516215600-1516230000@old.queensbury.net
SUMMARY:Zoning Board Meeting
DESCRIPTION:
URL:https://old.queensbury.net/event/zoning-board-meeting-2/2018-01-17/
LOCATION:NY
END:VEVENT
BEGIN:VEVENT
DTSTART;TZID=America/New_York:20180116T190000
DTEND;TZID=America/New_York:20180116T230000
DTSTAMP:20260423T025414
CREATED:20171201T132921Z
LAST-MODIFIED:20171201T133407Z
UID:6347-1516129200-1516143600@old.queensbury.net
SUMMARY:Planning Board Meeting
DESCRIPTION:
URL:https://old.queensbury.net/event/planning-board-meeting-10/
LOCATION:NY
END:VEVENT
BEGIN:VEVENT
DTSTART;TZID=America/New_York:20180108T190000
DTEND;TZID=America/New_York:20180108T190000
DTSTAMP:20260423T025414
CREATED:20180102T200352Z
LAST-MODIFIED:20180102T200352Z
UID:6497-1515438000-1515438000@old.queensbury.net
SUMMARY:Town Board Workshop
DESCRIPTION:
URL:https://old.queensbury.net/event/town-board-workshop-13/
LOCATION:Supervisor’s Conference Room\, 724 Bay Rd.\, Queensbury\, NY\, 12804
CATEGORIES:Workshop
END:VEVENT
BEGIN:VEVENT
DTSTART;TZID=America/New_York:20180101T110000
DTEND;TZID=America/New_York:20180101T110000
DTSTAMP:20260423T025414
CREATED:20171120T220804Z
LAST-MODIFIED:20171120T220804Z
UID:6212-1514804400-1514804400@old.queensbury.net
SUMMARY:Town Board Meeting
DESCRIPTION:
URL:https://old.queensbury.net/event/town-board-meeting-29/
LOCATION:Queensbury Activity Center\, 742 Bay Rd\, Queensbury\, NY\, 12804\, United States
CATEGORIES:Town Board Meeting
GEO:43.359753;-73.656527
X-APPLE-STRUCTURED-LOCATION;VALUE=URI;X-ADDRESS=Queensbury Activity Center 742 Bay Rd Queensbury NY 12804 United States;X-APPLE-RADIUS=500;X-TITLE=742 Bay Rd:geo:-73.656527,43.359753
END:VEVENT
BEGIN:VEVENT
DTSTART;TZID=America/New_York:20171221T190000
DTEND;TZID=America/New_York:20171221T230000
DTSTAMP:20260423T025414
CREATED:20161219T152909Z
LAST-MODIFIED:20161219T152909Z
UID:4887-1513882800-1513897200@old.queensbury.net
SUMMARY:Planning Board Meeting
DESCRIPTION:
URL:https://old.queensbury.net/event/planning-board-meeting-8/
LOCATION:NY
END:VEVENT
BEGIN:VEVENT
DTSTART;TZID=America/New_York:20171220T190000
DTEND;TZID=America/New_York:20171220T230000
DTSTAMP:20260423T025414
CREATED:20161219T155156Z
LAST-MODIFIED:20161219T155156Z
UID:4933-1513796400-1513810800@old.queensbury.net
SUMMARY:Zoning Board Meeting
DESCRIPTION:
URL:https://old.queensbury.net/event/zoning-board-meeting-23/
LOCATION:NY
END:VEVENT
BEGIN:VEVENT
DTSTART;TZID=America/New_York:20171220T190000
DTEND;TZID=America/New_York:20171220T190000
DTSTAMP:20260423T025414
CREATED:20171129T172449Z
LAST-MODIFIED:20171129T172449Z
UID:6330-1513796400-1513796400@old.queensbury.net
SUMMARY:Town Board Workshop
DESCRIPTION:
URL:https://old.queensbury.net/event/town-board-workshop-16/
LOCATION:Supervisor’s Conference Room\, 724 Bay Rd.\, Queensbury\, NY\, 12804
CATEGORIES:Workshop
END:VEVENT
BEGIN:VEVENT
DTSTART;TZID=America/New_York:20171219T190000
DTEND;TZID=America/New_York:20171219T220000
DTSTAMP:20260423T025414
CREATED:20161219T152821Z
LAST-MODIFIED:20161219T152821Z
UID:4885-1513710000-1513720800@old.queensbury.net
SUMMARY:Planning Board Meeting
DESCRIPTION:
URL:https://old.queensbury.net/event/planning-board-meeting-7/
LOCATION:NY
END:VEVENT
BEGIN:VEVENT
DTSTART;TZID=America/New_York:20171218T190000
DTEND;TZID=America/New_York:20171218T190000
DTSTAMP:20260423T025414
CREATED:20161207T181142Z
LAST-MODIFIED:20161207T181142Z
UID:4810-1513623600-1513623600@old.queensbury.net
SUMMARY:Town Board Meeting
DESCRIPTION:
URL:https://old.queensbury.net/event/town-board-meeting-28/
LOCATION:Queensbury Activity Center\, 742 Bay Rd\, Queensbury\, NY\, 12804\, United States
CATEGORIES:Town Board Meeting
GEO:43.359753;-73.656527
X-APPLE-STRUCTURED-LOCATION;VALUE=URI;X-ADDRESS=Queensbury Activity Center 742 Bay Rd Queensbury NY 12804 United States;X-APPLE-RADIUS=500;X-TITLE=742 Bay Rd:geo:-73.656527,43.359753
END:VEVENT
BEGIN:VEVENT
DTSTART;TZID=America/New_York:20171214T190000
DTEND;TZID=America/New_York:20171214T190000
DTSTAMP:20260423T025414
CREATED:20171207T212335Z
LAST-MODIFIED:20171207T212548Z
UID:6440-1513278000-1513278000@old.queensbury.net
SUMMARY:West Queensbury Trail System Extension
DESCRIPTION:
URL:https://old.queensbury.net/event/west-queensbury-trail-system-extension/
LOCATION:NY
END:VEVENT
BEGIN:VEVENT
DTSTART;TZID=America/New_York:20171211T190000
DTEND;TZID=America/New_York:20171211T190000
DTSTAMP:20260423T025414
CREATED:20171129T172403Z
LAST-MODIFIED:20171129T172403Z
UID:6328-1513018800-1513018800@old.queensbury.net
SUMMARY:Town Board Workshop
DESCRIPTION:
URL:https://old.queensbury.net/event/town-board-workshop-15/
LOCATION:Supervisor’s Conference Room\, 724 Bay Rd.\, Queensbury\, NY\, 12804
CATEGORIES:Workshop
END:VEVENT
BEGIN:VEVENT
DTSTART;TZID=America/New_York:20171204T190000
DTEND;TZID=America/New_York:20171204T190000
DTSTAMP:20260423T025414
CREATED:20161207T181103Z
LAST-MODIFIED:20161207T181103Z
UID:4808-1512414000-1512414000@old.queensbury.net
SUMMARY:Town Board Meeting
DESCRIPTION:
URL:https://old.queensbury.net/event/town-board-meeting-27/
LOCATION:Queensbury Activity Center\, 742 Bay Rd\, Queensbury\, NY\, 12804\, United States
CATEGORIES:Town Board Meeting
GEO:43.359753;-73.656527
X-APPLE-STRUCTURED-LOCATION;VALUE=URI;X-ADDRESS=Queensbury Activity Center 742 Bay Rd Queensbury NY 12804 United States;X-APPLE-RADIUS=500;X-TITLE=742 Bay Rd:geo:-73.656527,43.359753
END:VEVENT
BEGIN:VEVENT
DTSTART;TZID=America/New_York:20171128T190000
DTEND;TZID=America/New_York:20171128T230000
DTSTAMP:20260423T025414
CREATED:20161219T152354Z
LAST-MODIFIED:20161219T152354Z
UID:4882-1511895600-1511910000@old.queensbury.net
SUMMARY:Planning Board Meeting
DESCRIPTION:
URL:https://old.queensbury.net/event/planning-board-meeting-6/
LOCATION:NY
END:VEVENT
BEGIN:VEVENT
DTSTART;TZID=America/New_York:20171120T190000
DTEND;TZID=America/New_York:20171120T190000
DTSTAMP:20260423T025414
CREATED:20161207T181023Z
LAST-MODIFIED:20161207T181023Z
UID:4806-1511204400-1511204400@old.queensbury.net
SUMMARY:Town Board Meeting
DESCRIPTION:
URL:https://old.queensbury.net/event/town-board-meeting-26/
LOCATION:Queensbury Activity Center\, 742 Bay Rd\, Queensbury\, NY\, 12804\, United States
CATEGORIES:Town Board Meeting
GEO:43.359753;-73.656527
X-APPLE-STRUCTURED-LOCATION;VALUE=URI;X-ADDRESS=Queensbury Activity Center 742 Bay Rd Queensbury NY 12804 United States;X-APPLE-RADIUS=500;X-TITLE=742 Bay Rd:geo:-73.656527,43.359753
END:VEVENT
BEGIN:VEVENT
DTSTART;TZID=America/New_York:20171115T190000
DTEND;TZID=America/New_York:20171115T230000
DTSTAMP:20260423T025414
CREATED:20161219T155029Z
LAST-MODIFIED:20161219T155029Z
UID:4929-1510772400-1510786800@old.queensbury.net
SUMMARY:Zoning Board Meeting
DESCRIPTION:
URL:https://old.queensbury.net/event/zoning-board-meeting-21/
LOCATION:NY
END:VEVENT
BEGIN:VEVENT
DTSTART;TZID=America/New_York:20171114T190000
DTEND;TZID=America/New_York:20171114T230000
DTSTAMP:20260423T025414
CREATED:20161219T152316Z
LAST-MODIFIED:20171106T181715Z
UID:4880-1510686000-1510700400@old.queensbury.net
SUMMARY:Planning Board Meeting & Hazard Mitigation Training
DESCRIPTION:
URL:https://old.queensbury.net/event/planning-board-meeting-5/
LOCATION:NY
END:VEVENT
BEGIN:VEVENT
DTSTART;TZID=America/New_York:20171114T160000
DTEND;TZID=America/New_York:20171117T190000
DTSTAMP:20260423T025414
CREATED:20171114T215812Z
LAST-MODIFIED:20171114T215812Z
UID:6183-1510675200-1510945200@old.queensbury.net
SUMMARY:Special Town Board Meeting
DESCRIPTION:
URL:https://old.queensbury.net/event/special-town-board-meeting-2/
LOCATION:Supervisor’s Conference Room\, 724 Bay Rd.\, Queensbury\, NY\, 12804
END:VEVENT
BEGIN:VEVENT
DTSTART;TZID=America/New_York:20171113T190000
DTEND;TZID=America/New_York:20171113T220000
DTSTAMP:20260423T025414
CREATED:20171106T185254Z
LAST-MODIFIED:20171106T185254Z
UID:6155-1510599600-1510610400@old.queensbury.net
SUMMARY:Town Board Workshop
DESCRIPTION:
URL:https://old.queensbury.net/event/town-board-workshop-12/
LOCATION:Supervisor’s Conference Room\, 724 Bay Rd.\, Queensbury\, NY\, 12804
END:VEVENT
BEGIN:VEVENT
DTSTART;TZID=America/New_York:20171106T190000
DTEND;TZID=America/New_York:20171106T190000
DTSTAMP:20260423T025414
CREATED:20161207T180938Z
LAST-MODIFIED:20161207T180938Z
UID:4804-1509994800-1509994800@old.queensbury.net
SUMMARY:Town Board Meeting
DESCRIPTION:
URL:https://old.queensbury.net/event/town-board-meeting-25/
LOCATION:Queensbury Activity Center\, 742 Bay Rd\, Queensbury\, NY\, 12804\, United States
CATEGORIES:Town Board Meeting
GEO:43.359753;-73.656527
X-APPLE-STRUCTURED-LOCATION;VALUE=URI;X-ADDRESS=Queensbury Activity Center 742 Bay Rd Queensbury NY 12804 United States;X-APPLE-RADIUS=500;X-TITLE=742 Bay Rd:geo:-73.656527,43.359753
END:VEVENT
BEGIN:VEVENT
DTSTART;TZID=America/New_York:20171025T190000
DTEND;TZID=America/New_York:20171025T230000
DTSTAMP:20260423T025414
CREATED:20161219T154948Z
LAST-MODIFIED:20161219T154948Z
UID:4927-1508958000-1508972400@old.queensbury.net
SUMMARY:Zoning Board Meeting
DESCRIPTION:
URL:https://old.queensbury.net/event/zoning-board-meeting-20/
LOCATION:NY
END:VEVENT
BEGIN:VEVENT
DTSTART;TZID=America/New_York:20171024T190000
DTEND;TZID=America/New_York:20171024T230000
DTSTAMP:20260423T025414
CREATED:20161219T152158Z
LAST-MODIFIED:20161219T152158Z
UID:4878-1508871600-1508886000@old.queensbury.net
SUMMARY:Planning Board Meeting
DESCRIPTION:
URL:https://old.queensbury.net/event/planning-board-meeting-4/
LOCATION:NY
END:VEVENT
BEGIN:VEVENT
DTSTART;TZID=America/New_York:20171024T130000
DTEND;TZID=America/New_York:20171024T160000
DTSTAMP:20260423T025414
CREATED:20171018T151129Z
LAST-MODIFIED:20171018T151129Z
UID:6084-1508850000-1508860800@old.queensbury.net
SUMMARY:Town Board Special Meeting
DESCRIPTION:
URL:https://old.queensbury.net/event/town-board-special-meeting/
LOCATION:Supervisor Strough’s Conference  Room
END:VEVENT
BEGIN:VEVENT
DTSTART;TZID=America/New_York:20171018T190000
DTEND;TZID=America/New_York:20171018T230000
DTSTAMP:20260423T025414
CREATED:20161219T154830Z
LAST-MODIFIED:20170725T135823Z
UID:4925-1508353200-1508367600@old.queensbury.net
SUMMARY:Zoning Board Meeting
DESCRIPTION:
URL:https://old.queensbury.net/event/zoning-board-meeting-19/
LOCATION:NY
END:VEVENT
BEGIN:VEVENT
DTSTART;TZID=America/New_York:20171017T190000
DTEND;TZID=America/New_York:20171017T230000
DTSTAMP:20260423T025414
CREATED:20161219T152118Z
LAST-MODIFIED:20161219T152118Z
UID:4876-1508266800-1508281200@old.queensbury.net
SUMMARY:Planning Board Meeting
DESCRIPTION:
URL:https://old.queensbury.net/event/planning-board-meeting-3/
LOCATION:NY
END:VEVENT
BEGIN:VEVENT
DTSTART;TZID=America/New_York:20171016T190000
DTEND;TZID=America/New_York:20171016T190000
DTSTAMP:20260423T025414
CREATED:20161207T180845Z
LAST-MODIFIED:20161207T180845Z
UID:4802-1508180400-1508180400@old.queensbury.net
SUMMARY:Town Board Meeting
DESCRIPTION:
URL:https://old.queensbury.net/event/town-board-meeting-24/
LOCATION:Queensbury Activity Center\, 742 Bay Rd\, Queensbury\, NY\, 12804\, United States
CATEGORIES:Town Board Meeting
GEO:43.359753;-73.656527
X-APPLE-STRUCTURED-LOCATION;VALUE=URI;X-ADDRESS=Queensbury Activity Center 742 Bay Rd Queensbury NY 12804 United States;X-APPLE-RADIUS=500;X-TITLE=742 Bay Rd:geo:-73.656527,43.359753
END:VEVENT
BEGIN:VEVENT
DTSTART;TZID=America/New_York:20171011T160000
DTEND;TZID=America/New_York:20171011T190000
DTSTAMP:20260423T025414
CREATED:20170927T151200Z
LAST-MODIFIED:20170927T151200Z
UID:5992-1507737600-1507748400@old.queensbury.net
SUMMARY:Town Board Workshop
DESCRIPTION:
URL:https://old.queensbury.net/event/town-board-workshop-11/
LOCATION:NY
END:VEVENT
BEGIN:VEVENT
DTSTART;TZID=America/New_York:20171002T190000
DTEND;TZID=America/New_York:20171002T190000
DTSTAMP:20260423T025414
CREATED:20161207T180801Z
LAST-MODIFIED:20161207T180801Z
UID:4800-1506970800-1506970800@old.queensbury.net
SUMMARY:Town Board Meeting
DESCRIPTION:
URL:https://old.queensbury.net/event/town-board-meeting-23/
LOCATION:Queensbury Activity Center\, 742 Bay Road\, Queensbury \, 12804\, United States
CATEGORIES:Town Board Meeting
END:VEVENT
BEGIN:VEVENT
DTSTART;TZID=America/New_York:20170927T190000
DTEND;TZID=America/New_York:20170927T230000
DTSTAMP:20260423T025414
CREATED:20161219T154737Z
LAST-MODIFIED:20161219T154738Z
UID:4923-1506538800-1506553200@old.queensbury.net
SUMMARY:Zoning Board Meeting
DESCRIPTION:
URL:https://old.queensbury.net/event/zoning-board-meeting-18/
LOCATION:NY
END:VEVENT
END:VCALENDAR