BEGIN:VCALENDAR
VERSION:2.0
PRODID:-//Town of Queensbury - ECPv6.15.11//NONSGML v1.0//EN
CALSCALE:GREGORIAN
METHOD:PUBLISH
X-WR-CALNAME:Town of Queensbury
X-ORIGINAL-URL:https://old.queensbury.net
X-WR-CALDESC:Events for Town of Queensbury
REFRESH-INTERVAL;VALUE=DURATION:PT1H
X-Robots-Tag:noindex
X-PUBLISHED-TTL:PT1H
BEGIN:VTIMEZONE
TZID:America/New_York
BEGIN:DAYLIGHT
TZOFFSETFROM:-0500
TZOFFSETTO:-0400
TZNAME:EDT
DTSTART:20160313T070000
END:DAYLIGHT
BEGIN:STANDARD
TZOFFSETFROM:-0400
TZOFFSETTO:-0500
TZNAME:EST
DTSTART:20161106T060000
END:STANDARD
BEGIN:DAYLIGHT
TZOFFSETFROM:-0500
TZOFFSETTO:-0400
TZNAME:EDT
DTSTART:20170312T070000
END:DAYLIGHT
BEGIN:STANDARD
TZOFFSETFROM:-0400
TZOFFSETTO:-0500
TZNAME:EST
DTSTART:20171105T060000
END:STANDARD
BEGIN:DAYLIGHT
TZOFFSETFROM:-0500
TZOFFSETTO:-0400
TZNAME:EDT
DTSTART:20180311T070000
END:DAYLIGHT
BEGIN:STANDARD
TZOFFSETFROM:-0400
TZOFFSETTO:-0500
TZNAME:EST
DTSTART:20181104T060000
END:STANDARD
BEGIN:DAYLIGHT
TZOFFSETFROM:-0500
TZOFFSETTO:-0400
TZNAME:EDT
DTSTART:20190310T070000
END:DAYLIGHT
BEGIN:STANDARD
TZOFFSETFROM:-0400
TZOFFSETTO:-0500
TZNAME:EST
DTSTART:20191103T060000
END:STANDARD
END:VTIMEZONE
BEGIN:VEVENT
DTSTART;TZID=America/New_York:20180924T190000
DTEND;TZID=America/New_York:20180924T190000
DTSTAMP:20260423T173907
CREATED:20171121T171145Z
LAST-MODIFIED:20171121T171145Z
UID:6264-1537815600-1537815600@old.queensbury.net
SUMMARY:Town Board Meeting
DESCRIPTION:
URL:https://old.queensbury.net/event/town-board-meeting-43/
LOCATION:Queensbury Activity Center\, 742 Bay Rd\, Queensbury\, NY\, 12804\, United States
CATEGORIES:Town Board Meeting
GEO:43.359753;-73.656527
X-APPLE-STRUCTURED-LOCATION;VALUE=URI;X-ADDRESS=Queensbury Activity Center 742 Bay Rd Queensbury NY 12804 United States;X-APPLE-RADIUS=500;X-TITLE=742 Bay Rd:geo:-73.656527,43.359753
END:VEVENT
BEGIN:VEVENT
DTSTART;TZID=America/New_York:20180910T190000
DTEND;TZID=America/New_York:20180910T190000
DTSTAMP:20260423T173907
CREATED:20171121T171045Z
LAST-MODIFIED:20171121T171045Z
UID:6262-1536606000-1536606000@old.queensbury.net
SUMMARY:Town Board Meeting
DESCRIPTION:
URL:https://old.queensbury.net/event/town-board-meeting-42/
LOCATION:Queensbury Activity Center\, 742 Bay Rd\, Queensbury\, NY\, 12804\, United States
CATEGORIES:Town Board Meeting
GEO:43.359753;-73.656527
X-APPLE-STRUCTURED-LOCATION;VALUE=URI;X-ADDRESS=Queensbury Activity Center 742 Bay Rd Queensbury NY 12804 United States;X-APPLE-RADIUS=500;X-TITLE=742 Bay Rd:geo:-73.656527,43.359753
END:VEVENT
BEGIN:VEVENT
DTSTART;TZID=America/New_York:20180820T190000
DTEND;TZID=America/New_York:20180820T190000
DTSTAMP:20260423T173907
CREATED:20171121T170932Z
LAST-MODIFIED:20171121T170932Z
UID:6259-1534791600-1534791600@old.queensbury.net
SUMMARY:Town Board Meeting
DESCRIPTION:
URL:https://old.queensbury.net/event/town-board-meeting-41/
LOCATION:Queensbury Activity Center\, 742 Bay Road\, Queensbury \, 12804\, United States
CATEGORIES:Town Board Meeting
END:VEVENT
BEGIN:VEVENT
DTSTART;TZID=America/New_York:20180806T190000
DTEND;TZID=America/New_York:20180806T190000
DTSTAMP:20260423T173907
CREATED:20171121T170841Z
LAST-MODIFIED:20171121T170841Z
UID:6258-1533582000-1533582000@old.queensbury.net
SUMMARY:Town Board Meeting
DESCRIPTION:
URL:https://old.queensbury.net/event/town-board-meeting-40/
LOCATION:Queensbury Activity Center\, 742 Bay Rd\, Queensbury\, NY\, 12804\, United States
CATEGORIES:Town Board Meeting
GEO:43.359753;-73.656527
X-APPLE-STRUCTURED-LOCATION;VALUE=URI;X-ADDRESS=Queensbury Activity Center 742 Bay Rd Queensbury NY 12804 United States;X-APPLE-RADIUS=500;X-TITLE=742 Bay Rd:geo:-73.656527,43.359753
END:VEVENT
BEGIN:VEVENT
DTSTART;TZID=America/New_York:20180716T190000
DTEND;TZID=America/New_York:20180716T190000
DTSTAMP:20260423T173907
CREATED:20171121T170736Z
LAST-MODIFIED:20171121T172001Z
UID:6255-1531767600-1531767600@old.queensbury.net
SUMMARY:Town Board Meeting
DESCRIPTION:
URL:https://old.queensbury.net/event/town-queensbury-town-board-meeting-2/
LOCATION:Queensbury Activity Center\, 742 Bay Rd\, Queensbury\, NY\, 12804\, United States
CATEGORIES:Town Board Meeting
GEO:43.359753;-73.656527
X-APPLE-STRUCTURED-LOCATION;VALUE=URI;X-ADDRESS=Queensbury Activity Center 742 Bay Rd Queensbury NY 12804 United States;X-APPLE-RADIUS=500;X-TITLE=742 Bay Rd:geo:-73.656527,43.359753
END:VEVENT
BEGIN:VEVENT
DTSTART;TZID=America/New_York:20180702T190000
DTEND;TZID=America/New_York:20180702T190000
DTSTAMP:20260423T173907
CREATED:20171121T170702Z
LAST-MODIFIED:20171121T170702Z
UID:6254-1530558000-1530558000@old.queensbury.net
SUMMARY:Town Board Meeting
DESCRIPTION:
URL:https://old.queensbury.net/event/town-board-meeting-39/
LOCATION:Queensbury Activity Center\, 742 Bay Rd\, Queensbury\, NY\, 12804\, United States
CATEGORIES:Town Board Meeting
GEO:43.359753;-73.656527
X-APPLE-STRUCTURED-LOCATION;VALUE=URI;X-ADDRESS=Queensbury Activity Center 742 Bay Rd Queensbury NY 12804 United States;X-APPLE-RADIUS=500;X-TITLE=742 Bay Rd:geo:-73.656527,43.359753
END:VEVENT
BEGIN:VEVENT
DTSTART;TZID=America/New_York:20180618T190000
DTEND;TZID=America/New_York:20180618T190000
DTSTAMP:20260423T173907
CREATED:20171121T170535Z
LAST-MODIFIED:20171129T172213Z
UID:6252-1529348400-1529348400@old.queensbury.net
SUMMARY:Town Board Meeting
DESCRIPTION:
URL:https://old.queensbury.net/event/town-board-meeting-38/
LOCATION:Queensbury Activity Center\, 742 Bay Rd\, Queensbury\, NY\, 12804\, United States
CATEGORIES:Town Board Meeting
GEO:43.359753;-73.656527
X-APPLE-STRUCTURED-LOCATION;VALUE=URI;X-ADDRESS=Queensbury Activity Center 742 Bay Rd Queensbury NY 12804 United States;X-APPLE-RADIUS=500;X-TITLE=742 Bay Rd:geo:-73.656527,43.359753
END:VEVENT
BEGIN:VEVENT
DTSTART;TZID=America/New_York:20180604T190000
DTEND;TZID=America/New_York:20180604T190000
DTSTAMP:20260423T173907
CREATED:20171121T170359Z
LAST-MODIFIED:20171121T170359Z
UID:6250-1528138800-1528138800@old.queensbury.net
SUMMARY:Town Board Meeting
DESCRIPTION:
URL:https://old.queensbury.net/event/town-board-meeting-37/
LOCATION:Queensbury Activity Center\, 742 Bay Rd\, Queensbury\, NY\, 12804\, United States
CATEGORIES:Town Board Meeting
GEO:43.359753;-73.656527
X-APPLE-STRUCTURED-LOCATION;VALUE=URI;X-ADDRESS=Queensbury Activity Center 742 Bay Rd Queensbury NY 12804 United States;X-APPLE-RADIUS=500;X-TITLE=742 Bay Rd:geo:-73.656527,43.359753
END:VEVENT
BEGIN:VEVENT
DTSTART;TZID=America/New_York:20180521T190000
DTEND;TZID=America/New_York:20180521T190000
DTSTAMP:20260423T173907
CREATED:20171121T165858Z
LAST-MODIFIED:20171205T194132Z
UID:6248-1526929200-1526929200@old.queensbury.net
SUMMARY:Town Board Meeting
DESCRIPTION:
URL:https://old.queensbury.net/event/town-board-meeting-36/
LOCATION:Queensbury Activity Center\, 742 Bay Rd\, Queensbury\, NY\, 12804\, United States
CATEGORIES:Town Board Meeting
GEO:43.359753;-73.656527
X-APPLE-STRUCTURED-LOCATION;VALUE=URI;X-ADDRESS=Queensbury Activity Center 742 Bay Rd Queensbury NY 12804 United States;X-APPLE-RADIUS=500;X-TITLE=742 Bay Rd:geo:-73.656527,43.359753
END:VEVENT
BEGIN:VEVENT
DTSTART;TZID=America/New_York:20180507T190000
DTEND;TZID=America/New_York:20180507T190000
DTSTAMP:20260423T173907
CREATED:20171121T165716Z
LAST-MODIFIED:20171121T165716Z
UID:6246-1525719600-1525719600@old.queensbury.net
SUMMARY:Town Board Meeting
DESCRIPTION:
URL:https://old.queensbury.net/event/town-board-meeting-35/
LOCATION:Queensbury Activity Center\, 742 Bay Rd\, Queensbury\, NY\, 12804\, United States
CATEGORIES:Town Board Meeting
GEO:43.359753;-73.656527
X-APPLE-STRUCTURED-LOCATION;VALUE=URI;X-ADDRESS=Queensbury Activity Center 742 Bay Rd Queensbury NY 12804 United States;X-APPLE-RADIUS=500;X-TITLE=742 Bay Rd:geo:-73.656527,43.359753
END:VEVENT
BEGIN:VEVENT
DTSTART;TZID=America/New_York:20180416T190000
DTEND;TZID=America/New_York:20180416T190000
DTSTAMP:20260423T173907
CREATED:20171121T165402Z
LAST-MODIFIED:20171121T171934Z
UID:6244-1523905200-1523905200@old.queensbury.net
SUMMARY:Town Board Meeting
DESCRIPTION:
URL:https://old.queensbury.net/event/town-queensbury-town-board-meeting/
LOCATION:NY
CATEGORIES:Town Board Meeting
END:VEVENT
BEGIN:VEVENT
DTSTART;TZID=America/New_York:20180402T190000
DTEND;TZID=America/New_York:20180402T190000
DTSTAMP:20260423T173907
CREATED:20171121T165252Z
LAST-MODIFIED:20171121T165252Z
UID:6241-1522695600-1522695600@old.queensbury.net
SUMMARY:Town Board Meeting
DESCRIPTION:
URL:https://old.queensbury.net/event/town-board-meeting-34/
LOCATION:Queensbury Activity Center\, 742 Bay Rd\, Queensbury\, NY\, 12804\, United States
CATEGORIES:Town Board Meeting
GEO:43.359753;-73.656527
X-APPLE-STRUCTURED-LOCATION;VALUE=URI;X-ADDRESS=Queensbury Activity Center 742 Bay Rd Queensbury NY 12804 United States;X-APPLE-RADIUS=500;X-TITLE=742 Bay Rd:geo:-73.656527,43.359753
END:VEVENT
BEGIN:VEVENT
DTSTART;TZID=America/New_York:20180319T190000
DTEND;TZID=America/New_York:20180319T190000
DTSTAMP:20260423T173907
CREATED:20171120T221806Z
LAST-MODIFIED:20171120T221806Z
UID:6224-1521486000-1521486000@old.queensbury.net
SUMMARY:Town Board Meeting
DESCRIPTION:
URL:https://old.queensbury.net/event/town-board-meeting-33/
LOCATION:Queensbury Activity Center\, 742 Bay Rd\, Queensbury\, NY\, 12804\, United States
CATEGORIES:Town Board Meeting
GEO:43.359753;-73.656527
X-APPLE-STRUCTURED-LOCATION;VALUE=URI;X-ADDRESS=Queensbury Activity Center 742 Bay Rd Queensbury NY 12804 United States;X-APPLE-RADIUS=500;X-TITLE=742 Bay Rd:geo:-73.656527,43.359753
END:VEVENT
BEGIN:VEVENT
DTSTART;TZID=America/New_York:20180305T190000
DTEND;TZID=America/New_York:20180305T190000
DTSTAMP:20260423T173907
CREATED:20171120T221639Z
LAST-MODIFIED:20171120T221639Z
UID:6222-1520276400-1520276400@old.queensbury.net
SUMMARY:Town Board Meeting
DESCRIPTION:
URL:https://old.queensbury.net/event/town-board-meeting-32/
LOCATION:Queensbury Activity Center\, 742 Bay Rd\, Queensbury\, NY\, 12804\, United States
CATEGORIES:Town Board Meeting
GEO:43.359753;-73.656527
X-APPLE-STRUCTURED-LOCATION;VALUE=URI;X-ADDRESS=Queensbury Activity Center 742 Bay Rd Queensbury NY 12804 United States;X-APPLE-RADIUS=500;X-TITLE=742 Bay Rd:geo:-73.656527,43.359753
END:VEVENT
BEGIN:VEVENT
DTSTART;TZID=America/New_York:20180226T190000
DTEND;TZID=America/New_York:20180226T190000
DTSTAMP:20260423T173907
CREATED:20171120T221527Z
LAST-MODIFIED:20171121T171947Z
UID:6220-1519671600-1519671600@old.queensbury.net
SUMMARY:Town Board Meeting
DESCRIPTION:
URL:https://old.queensbury.net/event/queensbury-ny-town-board-meeting/
LOCATION:Queensbury Activity Center\, 742 Bay Rd\, Queensbury\, NY\, 12804\, United States
CATEGORIES:Town Board Meeting
GEO:43.359753;-73.656527
X-APPLE-STRUCTURED-LOCATION;VALUE=URI;X-ADDRESS=Queensbury Activity Center 742 Bay Rd Queensbury NY 12804 United States;X-APPLE-RADIUS=500;X-TITLE=742 Bay Rd:geo:-73.656527,43.359753
END:VEVENT
BEGIN:VEVENT
DTSTART;TZID=America/New_York:20180212T190000
DTEND;TZID=America/New_York:20180212T190000
DTSTAMP:20260423T173907
CREATED:20171120T221344Z
LAST-MODIFIED:20171120T221344Z
UID:6218-1518462000-1518462000@old.queensbury.net
SUMMARY:Town Board Meeting
DESCRIPTION:
URL:https://old.queensbury.net/event/town-board-meeting-31/
LOCATION:Queensbury Activity Center\, 742 Bay Rd\, Queensbury\, NY\, 12804\, United States
CATEGORIES:Town Board Meeting
GEO:43.359753;-73.656527
X-APPLE-STRUCTURED-LOCATION;VALUE=URI;X-ADDRESS=Queensbury Activity Center 742 Bay Rd Queensbury NY 12804 United States;X-APPLE-RADIUS=500;X-TITLE=742 Bay Rd:geo:-73.656527,43.359753
END:VEVENT
BEGIN:VEVENT
DTSTART;TZID=America/New_York:20180122T190000
DTEND;TZID=America/New_York:20180122T190000
DTSTAMP:20260423T173907
CREATED:20171120T221044Z
LAST-MODIFIED:20171120T221044Z
UID:6215-1516647600-1516647600@old.queensbury.net
SUMMARY:Town Board Meeting
DESCRIPTION:
URL:https://old.queensbury.net/event/town-board-meeting-30/
LOCATION:Queensbury Activity Center\, 742 Bay Rd\, Queensbury\, NY\, 12804\, United States
CATEGORIES:Town Board Meeting
GEO:43.359753;-73.656527
X-APPLE-STRUCTURED-LOCATION;VALUE=URI;X-ADDRESS=Queensbury Activity Center 742 Bay Rd Queensbury NY 12804 United States;X-APPLE-RADIUS=500;X-TITLE=742 Bay Rd:geo:-73.656527,43.359753
END:VEVENT
BEGIN:VEVENT
DTSTART;TZID=America/New_York:20180101T110000
DTEND;TZID=America/New_York:20180101T110000
DTSTAMP:20260423T173907
CREATED:20171120T220804Z
LAST-MODIFIED:20171120T220804Z
UID:6212-1514804400-1514804400@old.queensbury.net
SUMMARY:Town Board Meeting
DESCRIPTION:
URL:https://old.queensbury.net/event/town-board-meeting-29/
LOCATION:Queensbury Activity Center\, 742 Bay Rd\, Queensbury\, NY\, 12804\, United States
CATEGORIES:Town Board Meeting
GEO:43.359753;-73.656527
X-APPLE-STRUCTURED-LOCATION;VALUE=URI;X-ADDRESS=Queensbury Activity Center 742 Bay Rd Queensbury NY 12804 United States;X-APPLE-RADIUS=500;X-TITLE=742 Bay Rd:geo:-73.656527,43.359753
END:VEVENT
BEGIN:VEVENT
DTSTART;TZID=America/New_York:20171218T190000
DTEND;TZID=America/New_York:20171218T190000
DTSTAMP:20260423T173907
CREATED:20161207T181142Z
LAST-MODIFIED:20161207T181142Z
UID:4810-1513623600-1513623600@old.queensbury.net
SUMMARY:Town Board Meeting
DESCRIPTION:
URL:https://old.queensbury.net/event/town-board-meeting-28/
LOCATION:Queensbury Activity Center\, 742 Bay Rd\, Queensbury\, NY\, 12804\, United States
CATEGORIES:Town Board Meeting
GEO:43.359753;-73.656527
X-APPLE-STRUCTURED-LOCATION;VALUE=URI;X-ADDRESS=Queensbury Activity Center 742 Bay Rd Queensbury NY 12804 United States;X-APPLE-RADIUS=500;X-TITLE=742 Bay Rd:geo:-73.656527,43.359753
END:VEVENT
BEGIN:VEVENT
DTSTART;TZID=America/New_York:20171204T190000
DTEND;TZID=America/New_York:20171204T190000
DTSTAMP:20260423T173907
CREATED:20161207T181103Z
LAST-MODIFIED:20161207T181103Z
UID:4808-1512414000-1512414000@old.queensbury.net
SUMMARY:Town Board Meeting
DESCRIPTION:
URL:https://old.queensbury.net/event/town-board-meeting-27/
LOCATION:Queensbury Activity Center\, 742 Bay Rd\, Queensbury\, NY\, 12804\, United States
CATEGORIES:Town Board Meeting
GEO:43.359753;-73.656527
X-APPLE-STRUCTURED-LOCATION;VALUE=URI;X-ADDRESS=Queensbury Activity Center 742 Bay Rd Queensbury NY 12804 United States;X-APPLE-RADIUS=500;X-TITLE=742 Bay Rd:geo:-73.656527,43.359753
END:VEVENT
BEGIN:VEVENT
DTSTART;TZID=America/New_York:20171120T190000
DTEND;TZID=America/New_York:20171120T190000
DTSTAMP:20260423T173907
CREATED:20161207T181023Z
LAST-MODIFIED:20161207T181023Z
UID:4806-1511204400-1511204400@old.queensbury.net
SUMMARY:Town Board Meeting
DESCRIPTION:
URL:https://old.queensbury.net/event/town-board-meeting-26/
LOCATION:Queensbury Activity Center\, 742 Bay Rd\, Queensbury\, NY\, 12804\, United States
CATEGORIES:Town Board Meeting
GEO:43.359753;-73.656527
X-APPLE-STRUCTURED-LOCATION;VALUE=URI;X-ADDRESS=Queensbury Activity Center 742 Bay Rd Queensbury NY 12804 United States;X-APPLE-RADIUS=500;X-TITLE=742 Bay Rd:geo:-73.656527,43.359753
END:VEVENT
BEGIN:VEVENT
DTSTART;TZID=America/New_York:20171106T190000
DTEND;TZID=America/New_York:20171106T190000
DTSTAMP:20260423T173907
CREATED:20161207T180938Z
LAST-MODIFIED:20161207T180938Z
UID:4804-1509994800-1509994800@old.queensbury.net
SUMMARY:Town Board Meeting
DESCRIPTION:
URL:https://old.queensbury.net/event/town-board-meeting-25/
LOCATION:Queensbury Activity Center\, 742 Bay Rd\, Queensbury\, NY\, 12804\, United States
CATEGORIES:Town Board Meeting
GEO:43.359753;-73.656527
X-APPLE-STRUCTURED-LOCATION;VALUE=URI;X-ADDRESS=Queensbury Activity Center 742 Bay Rd Queensbury NY 12804 United States;X-APPLE-RADIUS=500;X-TITLE=742 Bay Rd:geo:-73.656527,43.359753
END:VEVENT
BEGIN:VEVENT
DTSTART;TZID=America/New_York:20171016T190000
DTEND;TZID=America/New_York:20171016T190000
DTSTAMP:20260423T173907
CREATED:20161207T180845Z
LAST-MODIFIED:20161207T180845Z
UID:4802-1508180400-1508180400@old.queensbury.net
SUMMARY:Town Board Meeting
DESCRIPTION:
URL:https://old.queensbury.net/event/town-board-meeting-24/
LOCATION:Queensbury Activity Center\, 742 Bay Rd\, Queensbury\, NY\, 12804\, United States
CATEGORIES:Town Board Meeting
GEO:43.359753;-73.656527
X-APPLE-STRUCTURED-LOCATION;VALUE=URI;X-ADDRESS=Queensbury Activity Center 742 Bay Rd Queensbury NY 12804 United States;X-APPLE-RADIUS=500;X-TITLE=742 Bay Rd:geo:-73.656527,43.359753
END:VEVENT
BEGIN:VEVENT
DTSTART;TZID=America/New_York:20171002T190000
DTEND;TZID=America/New_York:20171002T190000
DTSTAMP:20260423T173907
CREATED:20161207T180801Z
LAST-MODIFIED:20161207T180801Z
UID:4800-1506970800-1506970800@old.queensbury.net
SUMMARY:Town Board Meeting
DESCRIPTION:
URL:https://old.queensbury.net/event/town-board-meeting-23/
LOCATION:Queensbury Activity Center\, 742 Bay Road\, Queensbury \, 12804\, United States
CATEGORIES:Town Board Meeting
END:VEVENT
BEGIN:VEVENT
DTSTART;TZID=America/New_York:20170925T190000
DTEND;TZID=America/New_York:20170925T190000
DTSTAMP:20260423T173907
CREATED:20161207T180716Z
LAST-MODIFIED:20161207T180716Z
UID:4798-1506366000-1506366000@old.queensbury.net
SUMMARY:Town Board Meeting
DESCRIPTION:
URL:https://old.queensbury.net/event/town-board-meeting-22/
LOCATION:Queensbury Activity Center\, 742 Bay Rd\, Queensbury\, NY\, 12804\, United States
CATEGORIES:Town Board Meeting
GEO:43.359753;-73.656527
X-APPLE-STRUCTURED-LOCATION;VALUE=URI;X-ADDRESS=Queensbury Activity Center 742 Bay Rd Queensbury NY 12804 United States;X-APPLE-RADIUS=500;X-TITLE=742 Bay Rd:geo:-73.656527,43.359753
END:VEVENT
BEGIN:VEVENT
DTSTART;TZID=America/New_York:20170911T190000
DTEND;TZID=America/New_York:20170911T190000
DTSTAMP:20260423T173907
CREATED:20161207T180631Z
LAST-MODIFIED:20161207T180631Z
UID:4796-1505156400-1505156400@old.queensbury.net
SUMMARY:Town Board Meeting
DESCRIPTION:
URL:https://old.queensbury.net/event/town-board-meeting-21/
LOCATION:Queensbury Activity Center\, 742 Bay Rd\, Queensbury\, NY\, 12804\, United States
CATEGORIES:Town Board Meeting
GEO:43.359753;-73.656527
X-APPLE-STRUCTURED-LOCATION;VALUE=URI;X-ADDRESS=Queensbury Activity Center 742 Bay Rd Queensbury NY 12804 United States;X-APPLE-RADIUS=500;X-TITLE=742 Bay Rd:geo:-73.656527,43.359753
END:VEVENT
BEGIN:VEVENT
DTSTART;TZID=America/New_York:20170821T190000
DTEND;TZID=America/New_York:20170821T190000
DTSTAMP:20260423T173907
CREATED:20161207T180546Z
LAST-MODIFIED:20161207T180546Z
UID:4794-1503342000-1503342000@old.queensbury.net
SUMMARY:Town Board Meeting
DESCRIPTION:
URL:https://old.queensbury.net/event/town-board-meeting-20/
LOCATION:Queensbury Activity Center\, 742 Bay Rd\, Queensbury\, NY\, 12804\, United States
CATEGORIES:Town Board Meeting
GEO:43.359753;-73.656527
X-APPLE-STRUCTURED-LOCATION;VALUE=URI;X-ADDRESS=Queensbury Activity Center 742 Bay Rd Queensbury NY 12804 United States;X-APPLE-RADIUS=500;X-TITLE=742 Bay Rd:geo:-73.656527,43.359753
END:VEVENT
BEGIN:VEVENT
DTSTART;TZID=America/New_York:20170807T190000
DTEND;TZID=America/New_York:20170807T190000
DTSTAMP:20260423T173907
CREATED:20161207T180448Z
LAST-MODIFIED:20161207T180448Z
UID:4792-1502132400-1502132400@old.queensbury.net
SUMMARY:Town Board Meeting
DESCRIPTION:
URL:https://old.queensbury.net/event/town-board-meeting-19/
LOCATION:Queensbury Activity Center\, 742 Bay Rd\, Queensbury\, NY\, 12804\, United States
CATEGORIES:Town Board Meeting
GEO:43.359753;-73.656527
X-APPLE-STRUCTURED-LOCATION;VALUE=URI;X-ADDRESS=Queensbury Activity Center 742 Bay Rd Queensbury NY 12804 United States;X-APPLE-RADIUS=500;X-TITLE=742 Bay Rd:geo:-73.656527,43.359753
END:VEVENT
BEGIN:VEVENT
DTSTART;TZID=America/New_York:20170717T190000
DTEND;TZID=America/New_York:20170717T190000
DTSTAMP:20260423T173907
CREATED:20161207T180403Z
LAST-MODIFIED:20161207T180403Z
UID:4790-1500318000-1500318000@old.queensbury.net
SUMMARY:Town Board Meeting
DESCRIPTION:
URL:https://old.queensbury.net/event/town-board-meeting-18/
LOCATION:Queensbury Activity Center\, 742 Bay Rd\, Queensbury\, NY\, 12804\, United States
CATEGORIES:Town Board Meeting
GEO:43.359753;-73.656527
X-APPLE-STRUCTURED-LOCATION;VALUE=URI;X-ADDRESS=Queensbury Activity Center 742 Bay Rd Queensbury NY 12804 United States;X-APPLE-RADIUS=500;X-TITLE=742 Bay Rd:geo:-73.656527,43.359753
END:VEVENT
BEGIN:VEVENT
DTSTART;TZID=America/New_York:20170306T190000
DTEND;TZID=America/New_York:20170306T190000
DTSTAMP:20260423T173907
CREATED:20161207T175658Z
LAST-MODIFIED:20161207T181535Z
UID:4772-1488826800-1488826800@old.queensbury.net
SUMMARY:Town Board Meeting
DESCRIPTION:
URL:https://old.queensbury.net/event/town-board-meeting-9/
LOCATION:Queensbury Activity Center\, 742 Bay Rd\, Queensbury\, NY\, 12804\, United States
CATEGORIES:Town Board Meeting
GEO:43.359753;-73.656527
X-APPLE-STRUCTURED-LOCATION;VALUE=URI;X-ADDRESS=Queensbury Activity Center 742 Bay Rd Queensbury NY 12804 United States;X-APPLE-RADIUS=500;X-TITLE=742 Bay Rd:geo:-73.656527,43.359753
END:VEVENT
END:VCALENDAR