BEGIN:VCALENDAR
VERSION:2.0
PRODID:-//Town of Queensbury - ECPv6.15.11//NONSGML v1.0//EN
CALSCALE:GREGORIAN
METHOD:PUBLISH
X-WR-CALNAME:Town of Queensbury
X-ORIGINAL-URL:https://old.queensbury.net
X-WR-CALDESC:Events for Town of Queensbury
REFRESH-INTERVAL;VALUE=DURATION:PT1H
X-Robots-Tag:noindex
X-PUBLISHED-TTL:PT1H
BEGIN:VTIMEZONE
TZID:America/New_York
BEGIN:DAYLIGHT
TZOFFSETFROM:-0500
TZOFFSETTO:-0400
TZNAME:EDT
DTSTART:20240310T070000
END:DAYLIGHT
BEGIN:STANDARD
TZOFFSETFROM:-0400
TZOFFSETTO:-0500
TZNAME:EST
DTSTART:20241103T060000
END:STANDARD
BEGIN:DAYLIGHT
TZOFFSETFROM:-0500
TZOFFSETTO:-0400
TZNAME:EDT
DTSTART:20250309T070000
END:DAYLIGHT
BEGIN:STANDARD
TZOFFSETFROM:-0400
TZOFFSETTO:-0500
TZNAME:EST
DTSTART:20251102T060000
END:STANDARD
BEGIN:DAYLIGHT
TZOFFSETFROM:-0500
TZOFFSETTO:-0400
TZNAME:EDT
DTSTART:20260308T070000
END:DAYLIGHT
BEGIN:STANDARD
TZOFFSETFROM:-0400
TZOFFSETTO:-0500
TZNAME:EST
DTSTART:20261101T060000
END:STANDARD
END:VTIMEZONE
BEGIN:VEVENT
DTSTART;TZID=America/New_York:20251023T190000
DTEND;TZID=America/New_York:20251023T190000
DTSTAMP:20260422T050745
CREATED:20250916T125906Z
LAST-MODIFIED:20251023T171347Z
UID:22304-1761246000-1761246000@old.queensbury.net
SUMMARY:Town Board Workshop
DESCRIPTION:TOWN BOARD WORKSHOP AGENDA – Thursday\, October 23\, 2025 \nWhen: Oct 23\, 2025 07:00 PM Eastern Time (US and Canada)\nTopic: QBY TOWN BOARD WORKSHOP THURSDAY OCT 23 2025 7 PM \nJoin from PC\, Mac\, iPad\, or Android:\nhttps://us02web.zoom.us/j/88378439189 \nPhone one-tap:\n+19292056099\,\,88378439189# US (New York)\n+16469313860\,\,88378439189# US \nJoin via audio:\n+1 929 205 6099 US (New York)\n+1 646 931 3860 US\n+1 312 626 6799 US (Chicago)\n+1 301 715 8592 US (Washington DC)\n+1 305 224 1968 US\n+1 309 205 3325 US\n+1 386 347 5053 US\n+1 507 473 4847 US\n+1 564 217 2000 US\n+1 669 444 9171 US\n+1 669 900 6833 US (San Jose)\n+1 689 278 1000 US\n+1 719 359 4580 US\n+1 253 205 0468 US\n+1 253 215 8782 US (Tacoma)\n+1 346 248 7799 US (Houston)\n+1 360 209 5623 US\nWebinar ID: 883 7843 9189\nInternational numbers available: https://us02web.zoom.us/u/kGX1E0FIU
URL:https://old.queensbury.net/event/town-board-workshop-113/
LOCATION:Supervisor’s Conference Room\, 724 Bay Rd.\, Queensbury\, NY\, 12804
END:VEVENT
END:VCALENDAR