BEGIN:VCALENDAR
VERSION:2.0
PRODID:-//Town of Queensbury - ECPv6.15.11//NONSGML v1.0//EN
CALSCALE:GREGORIAN
METHOD:PUBLISH
X-ORIGINAL-URL:https://old.queensbury.net
X-WR-CALDESC:Events for Town of Queensbury
REFRESH-INTERVAL;VALUE=DURATION:PT1H
X-Robots-Tag:noindex
X-PUBLISHED-TTL:PT1H
BEGIN:VTIMEZONE
TZID:America/New_York
BEGIN:DAYLIGHT
TZOFFSETFROM:-0500
TZOFFSETTO:-0400
TZNAME:EDT
DTSTART:20240310T070000
END:DAYLIGHT
BEGIN:STANDARD
TZOFFSETFROM:-0400
TZOFFSETTO:-0500
TZNAME:EST
DTSTART:20241103T060000
END:STANDARD
BEGIN:DAYLIGHT
TZOFFSETFROM:-0500
TZOFFSETTO:-0400
TZNAME:EDT
DTSTART:20250309T070000
END:DAYLIGHT
BEGIN:STANDARD
TZOFFSETFROM:-0400
TZOFFSETTO:-0500
TZNAME:EST
DTSTART:20251102T060000
END:STANDARD
BEGIN:DAYLIGHT
TZOFFSETFROM:-0500
TZOFFSETTO:-0400
TZNAME:EDT
DTSTART:20260308T070000
END:DAYLIGHT
BEGIN:STANDARD
TZOFFSETFROM:-0400
TZOFFSETTO:-0500
TZNAME:EST
DTSTART:20261101T060000
END:STANDARD
END:VTIMEZONE
BEGIN:VEVENT
DTSTART;TZID=America/New_York:20250825T190000
DTEND;TZID=America/New_York:20250825T190000
DTSTAMP:20260422T191103
CREATED:20250814T111826Z
LAST-MODIFIED:20250818T151604Z
UID:22224-1756148400-1756148400@old.queensbury.net
SUMMARY:Zoning Code Update Public Workshop
DESCRIPTION:Date: August 25\, 2025\nTime: 7pm\nLocation: Queensbury Activities Center\nPublic Meeting format:  In-person and via Zoom \nThis will be a public workshop and discussion regarding possible changes to the zoning code (Chapter 179 of Town Code) and their connection to the 2024 Town of Queensbury Comprehensive Plan. \nJoin Zoom Meeting \nhttps://bartonandloguidice.zoom.us/s/83396182255 \nPhone one-tap: \n+16465189805\,\,83396182255# US (New York) 12678310333\,\,83396182255# US \n+(Philadelphia) \nJoin via audio: \n+1 646 518 9805 US (New York) \n+1 267 831 0333 US (Philadelphia) \nWebinar ID: 833 9618 2255 \nInternational numbers available: https://bartonandloguidice.zoom.us/u/kcNsZKo0i
URL:https://old.queensbury.net/event/zoning-code-update-public-workshop/
LOCATION:Queensbury Activity Center\, 742 Bay Road\, Queensbury \, NY\, 12804\, United States
END:VEVENT
END:VCALENDAR