BEGIN:VCALENDAR
VERSION:2.0
PRODID:-//Town of Queensbury - ECPv6.15.11//NONSGML v1.0//EN
CALSCALE:GREGORIAN
METHOD:PUBLISH
X-ORIGINAL-URL:https://old.queensbury.net
X-WR-CALDESC:Events for Town of Queensbury
REFRESH-INTERVAL;VALUE=DURATION:PT1H
X-Robots-Tag:noindex
X-PUBLISHED-TTL:PT1H
BEGIN:VTIMEZONE
TZID:America/New_York
BEGIN:DAYLIGHT
TZOFFSETFROM:-0500
TZOFFSETTO:-0400
TZNAME:EDT
DTSTART:20170312T070000
END:DAYLIGHT
BEGIN:STANDARD
TZOFFSETFROM:-0400
TZOFFSETTO:-0500
TZNAME:EST
DTSTART:20171105T060000
END:STANDARD
BEGIN:DAYLIGHT
TZOFFSETFROM:-0500
TZOFFSETTO:-0400
TZNAME:EDT
DTSTART:20180311T070000
END:DAYLIGHT
BEGIN:STANDARD
TZOFFSETFROM:-0400
TZOFFSETTO:-0500
TZNAME:EST
DTSTART:20181104T060000
END:STANDARD
BEGIN:DAYLIGHT
TZOFFSETFROM:-0500
TZOFFSETTO:-0400
TZNAME:EDT
DTSTART:20190310T070000
END:DAYLIGHT
BEGIN:STANDARD
TZOFFSETFROM:-0400
TZOFFSETTO:-0500
TZNAME:EST
DTSTART:20191103T060000
END:STANDARD
END:VTIMEZONE
BEGIN:VEVENT
DTSTART;TZID=America/New_York:20180711T170000
DTEND;TZID=America/New_York:20180711T190000
DTSTAMP:20260421T175128
CREATED:20180626T230604Z
LAST-MODIFIED:20180629T014202Z
UID:7058-1531328400-1531335600@old.queensbury.net
SUMMARY:Southern Adirondacks for Solar at the Glens Falls Take-A-Bite
DESCRIPTION:Have you thought about using the SUN to produce Electricity for your Home? We can HELP. Join Us.\nSouthern Adirondacks for Solar\nMeet – N – Greet on July 11\, 2018 \nCome see us at the Glens Falls Take-A-Bite in downtown Glens Falls!\nFree Food and Drink and meet the Solar Company Partners! \nFor more information: https://old.queensbury.net/departments/clean-energy-community/southern-adirondacks-for-solar/
URL:https://old.queensbury.net/event/7058/
LOCATION:NY
CATEGORIES:Community
END:VEVENT
END:VCALENDAR