BEGIN:VCALENDAR
VERSION:2.0
PRODID:-//Town of Queensbury - ECPv6.15.11//NONSGML v1.0//EN
CALSCALE:GREGORIAN
METHOD:PUBLISH
X-WR-CALNAME:Town of Queensbury
X-ORIGINAL-URL:https://old.queensbury.net
X-WR-CALDESC:Events for Town of Queensbury
REFRESH-INTERVAL;VALUE=DURATION:PT1H
X-Robots-Tag:noindex
X-PUBLISHED-TTL:PT1H
BEGIN:VTIMEZONE
TZID:America/New_York
BEGIN:DAYLIGHT
TZOFFSETFROM:-0500
TZOFFSETTO:-0400
TZNAME:EDT
DTSTART:20170312T070000
END:DAYLIGHT
BEGIN:STANDARD
TZOFFSETFROM:-0400
TZOFFSETTO:-0500
TZNAME:EST
DTSTART:20171105T060000
END:STANDARD
BEGIN:DAYLIGHT
TZOFFSETFROM:-0500
TZOFFSETTO:-0400
TZNAME:EDT
DTSTART:20180311T070000
END:DAYLIGHT
BEGIN:STANDARD
TZOFFSETFROM:-0400
TZOFFSETTO:-0500
TZNAME:EST
DTSTART:20181104T060000
END:STANDARD
BEGIN:DAYLIGHT
TZOFFSETFROM:-0500
TZOFFSETTO:-0400
TZNAME:EDT
DTSTART:20190310T070000
END:DAYLIGHT
BEGIN:STANDARD
TZOFFSETFROM:-0400
TZOFFSETTO:-0500
TZNAME:EST
DTSTART:20191103T060000
END:STANDARD
END:VTIMEZONE
BEGIN:VEVENT
DTSTART;TZID=America/New_York:20180505T120000
DTEND;TZID=America/New_York:20180505T120000
DTSTAMP:20260423T104621
CREATED:20180425T160431Z
LAST-MODIFIED:20180425T160431Z
UID:6783-1525521600-1525521600@old.queensbury.net
SUMMARY:Southern Adirondacks for Solar
DESCRIPTION:Have you thought about using the SUN to produce electricity for your home? We can help. Join us! \nPublic is invited to Southern Adirondack for Solar (SAS) Solarize Campaign Launch event sponsored by the Town of Queensbury Clean Energy Community.  Enjoy a free lunch and learn more about the Solar Company Partners. \n 
URL:https://old.queensbury.net/event/southern-adirondacks-solar/
LOCATION:Queensbury Community Center\, 742 BAy Rd.\, Queensbury\, NY\, 12804
CATEGORIES:Community
GEO:43.359753;-73.656527
X-APPLE-STRUCTURED-LOCATION;VALUE=URI;X-ADDRESS=Queensbury Community Center 742 BAy Rd. Queensbury NY 12804;X-APPLE-RADIUS=500;X-TITLE=742 BAy Rd.:geo:-73.656527,43.359753
END:VEVENT
END:VCALENDAR